BEGIN:VCALENDAR
PRODID:-//Microsoft Corporation//Outlook 12.0 MIMEDIR//EN
VERSION:2.0
METHOD:PUBLISH
X-MS-OLK-FORCEINSPECTOROPEN:TRUE
BEGIN:VEVENT
CLASS:PUBLIC
CREATED:20260419T200950Z
DESCRIPTION:VER VIDEO\nLas historias de usuario son un poderoso medio para fomentar la cooperación y la enseñanza de muchas cosas. Estas permiten crear un vínculo entre usuarios o consumidores y desarrolladores de productos o servicios. Y esta relación es el primer gran paso hacia la creación y pináculo de productos admirables, que influencien positivamente a las personas que los usen o consuman e incluso cambien para mejorar su estilo de vida.\nDirigido a:\nCualquier persona interesada en usar las técnicas relacionadas con historias de usuario, que estén o vayan a participar en proyectos ágiles con marcos de trabajo como Scrum; también, para interesados en los proyectos que están en la cadena de valor de proporcionar características o requisitos a los equipos de desarrollo de productos o servicios. ( Gerentes de producto,  Dueños de Producto,  Mercadeo de productos,  Analistas del negocio, Analistas funcionales,  Patrocinadores de los proyectos de desarrollo)\nVER VIDEO\n
DTSTART:20200714T153000
DTEND:20200714T164500
DTSTAMP:20260419T200950Z
LOCATION:Online
PRIORITY:5
SEQUENCE:0
SUMMARY;LANGUAGE=es-es:Tecnowebinars.com - :: Las Historias de usuario nos ayudan a crear productos increíbles
TRANSP:OPAQUE
UID:8b1c52ef6494a6819c9ba726d4bc21df Tecnowebinars.com
X-MICROSOFT-CDO-BUSYSTATUS:BUSY
X-MICROSOFT-CDO-IMPORTANCE:1
X-MICROSOFT-DISALLOW-COUNTER:FALSE
X-MS-OLK-ALLOWEXTERNCHECK:TRUE
X-MS-OLK-AUTOFILLLOCATION:FALSE
X-MS-OLK-CONFTYPE:0
BEGIN:VALARM
TRIGGER:-PT1440M
ACTION:DISPLAY
DESCRIPTION:Reminder
END:VALARM
END:VEVENT
END:VCALENDAR
