BEGIN:VCALENDAR
PRODID:-//Microsoft Corporation//Outlook 12.0 MIMEDIR//EN
VERSION:2.0
METHOD:PUBLISH
X-MS-OLK-FORCEINSPECTOROPEN:TRUE
BEGIN:VEVENT
CLASS:PUBLIC
CREATED:20260419T201120Z
DESCRIPTION:VER VIDEO\nLos asistentes conocerán la importancia de maximizar el valor del negocio, bajo el punto de vista del Product Owner. Este worshop está enteramente enfocado en proporcionarles algunos, trucos y técnicas que necesitan los Product Owners.\n§  Conocer técnicas de priorización para maximizar el valor del negocio.\n§  Descubrir el papel crítico del Product Backlog y cómo se usa en Scrum.\n§  Identificar el perfil de conductas y actitudes que permite llegar a ser un eficiente Product Owner aumentando su impacto.\n§  Aprender técnicas sobre cómo involucrar a los miembros del Equipo, a los usuarios, a los clientes y a los stakeholders en la creación de requisitos y características.\n§  Consolidar y profundizar en los valores de Scrum\n \nVER VIDEO\n
DTSTART:20200708T180000
DTEND:20200708T194500
DTSTAMP:20260419T201120Z
LOCATION:Online
PRIORITY:5
SEQUENCE:0
SUMMARY;LANGUAGE=es-es:Tecnowebinars.com - :: Product Owner, ¿qué es y cuáles son sus funciones?
TRANSP:OPAQUE
UID:ee789325f4e602d19bd1c475d08eaeb2 Tecnowebinars.com
X-MICROSOFT-CDO-BUSYSTATUS:BUSY
X-MICROSOFT-CDO-IMPORTANCE:1
X-MICROSOFT-DISALLOW-COUNTER:FALSE
X-MS-OLK-ALLOWEXTERNCHECK:TRUE
X-MS-OLK-AUTOFILLLOCATION:FALSE
X-MS-OLK-CONFTYPE:0
BEGIN:VALARM
TRIGGER:-PT1440M
ACTION:DISPLAY
DESCRIPTION:Reminder
END:VALARM
END:VEVENT
END:VCALENDAR
