BEGIN:VCALENDAR
PRODID:-//Microsoft Corporation//Outlook 12.0 MIMEDIR//EN
VERSION:2.0
METHOD:PUBLISH
X-MS-OLK-FORCEINSPECTOROPEN:TRUE
BEGIN:VEVENT
CLASS:PUBLIC
CREATED:20260419T213541Z
DESCRIPTION:Join Alfresco and our executive team for the "virtual" annual conference, Alfresco Modernize 2020. This event will be focused on how Alfresco is solving for modernization projects with our scalable, cloud-native content services platform and tailored solutions.\nWhy you should attend:\n \n- Inform: Learn how to connect and protect your most important information with a faster time to value.\n- Innovate: See product demonstrations and real customer examples.\n- Ignite: Don’t wait. Jumpstart your digital transformation goals by putting critical information in the hands of the right people at the right time. Delight your customers and employees with solutions built to address your business challenges.\n
DTSTART:20200604T110000
DTEND:20200604T130000
DTSTAMP:20260419T213541Z
LOCATION:Online
PRIORITY:5
SEQUENCE:0
SUMMARY;LANGUAGE=es-es:Tecnowebinars.com - :: Alfresco Modernize EMEA 2020
TRANSP:OPAQUE
UID:b0331154e4e6e82dee53cb1245e53e5a Tecnowebinars.com
X-MICROSOFT-CDO-BUSYSTATUS:BUSY
X-MICROSOFT-CDO-IMPORTANCE:1
X-MICROSOFT-DISALLOW-COUNTER:FALSE
X-MS-OLK-ALLOWEXTERNCHECK:TRUE
X-MS-OLK-AUTOFILLLOCATION:FALSE
X-MS-OLK-CONFTYPE:0
BEGIN:VALARM
TRIGGER:-PT1440M
ACTION:DISPLAY
DESCRIPTION:Reminder
END:VALARM
END:VEVENT
END:VCALENDAR
