BEGIN:VCALENDAR
PRODID:-//Microsoft Corporation//Outlook 12.0 MIMEDIR//EN
VERSION:2.0
METHOD:PUBLISH
X-MS-OLK-FORCEINSPECTOROPEN:TRUE
BEGIN:VEVENT
CLASS:PUBLIC
CREATED:20260419T230810Z
DESCRIPTION:In this latest Data Science Central webinar, we will introduce and demonstrate how you can perform common time-series Machine Learning tasks such as Forecasting and Anomaly Detection, directly within the Influx platform without the need to use external tools, languages and services\nDuring this webinar, you will learn:\n \n- How to initiate Machine Learning tasks directly within the Influx visual interface without intimate knowledge of how these algorithms are implemented\n- How data scientists can wrap existing, or develop new, Machine Learning algorithms for publication to the Influx time-series platform using familiar languages and frameworks \n
DTSTART:20200528T180000
DTEND:20200528T190000
DTSTAMP:20260419T230810Z
LOCATION:Online
PRIORITY:5
SEQUENCE:0
SUMMARY;LANGUAGE=es-es:Tecnowebinars.com - :: No-code ML for Forecasting and Anomaly Detection
TRANSP:OPAQUE
UID:89f1aafaabc3881ffcd276b64e823591 Tecnowebinars.com
X-MICROSOFT-CDO-BUSYSTATUS:BUSY
X-MICROSOFT-CDO-IMPORTANCE:1
X-MICROSOFT-DISALLOW-COUNTER:FALSE
X-MS-OLK-ALLOWEXTERNCHECK:TRUE
X-MS-OLK-AUTOFILLLOCATION:FALSE
X-MS-OLK-CONFTYPE:0
BEGIN:VALARM
TRIGGER:-PT1440M
ACTION:DISPLAY
DESCRIPTION:Reminder
END:VALARM
END:VEVENT
END:VCALENDAR
