BEGIN:VCALENDAR
PRODID:-//Microsoft Corporation//Outlook 12.0 MIMEDIR//EN
VERSION:2.0
METHOD:PUBLISH
X-MS-OLK-FORCEINSPECTOROPEN:TRUE
BEGIN:VEVENT
CLASS:PUBLIC
CREATED:20260419T230758Z
DESCRIPTION:The process of engineering battery management system (BMS) control software is a complex activity that must produce a balance between immediate battery power performance and long duration safe operation.\nRobust algorithms are needed to accurately determine battery states to ensure reliable information on available energy and power levels and the life of the battery. Developing underlying algorithms directly on a hardware battery prototype is time-consuming, prone to errors, and introduces safety fail-points.\nThe model-based design (MBD) framework provides a mechanism to reuse test scenarios at different stages of development and operating conditions to ensure the safe operation of the battery.\nIn this webinar, we’ll explain how to set up an MBD framework to develop and test the BMS algorithms on a virtual battery pack. It will highlight how advanced optimal control techniques enhance battery performance, how engineers can reuse the virtual battery pack during different development stages using different test environments (e.g., MIL, SIL, and HIL) and how to reuse test scenarios at different stages of development.\nYou will learn:\n- Key subsystems within a Battery Management Control System that pertain to range anxiety, safety, and optimal vehicle performance\n- How a virtual battery models be used to analyze control system behavior and to rapidly test its performance in a repeatable fashion, including thermal management strategies\n- Key factors that affect the aging of the battery pack, and how can the BMS help to monitor and extend the life of the battery pack\n
DTSTART:20200518T200000
DTEND:20200518T210000
DTSTAMP:20260419T230758Z
LOCATION:Online
PRIORITY:5
SEQUENCE:0
SUMMARY;LANGUAGE=es-es:Tecnowebinars.com - :: Addressing the challenges of Battery Management System development using an MBD framework
TRANSP:OPAQUE
UID:5a34d0f65ffc3929c1d3819821c92850 Tecnowebinars.com
X-MICROSOFT-CDO-BUSYSTATUS:BUSY
X-MICROSOFT-CDO-IMPORTANCE:1
X-MICROSOFT-DISALLOW-COUNTER:FALSE
X-MS-OLK-ALLOWEXTERNCHECK:TRUE
X-MS-OLK-AUTOFILLLOCATION:FALSE
X-MS-OLK-CONFTYPE:0
BEGIN:VALARM
TRIGGER:-PT1440M
ACTION:DISPLAY
DESCRIPTION:Reminder
END:VALARM
END:VEVENT
END:VCALENDAR
