BEGIN:VCALENDAR
PRODID:-//Microsoft Corporation//Outlook 12.0 MIMEDIR//EN
VERSION:2.0
METHOD:PUBLISH
X-MS-OLK-FORCEINSPECTOROPEN:TRUE
BEGIN:VEVENT
CLASS:PUBLIC
CREATED:20260419T231453Z
DESCRIPTION:With gPROMS FormulatedProducts, manufacturing processes in the Food and Beverage industry can be optimally designed and operated with fewer resources and at a reduced risk. Process performance is improved through the rapid configuration, calibration and deployment of digital twins based on predictive sciences and data analytics.\nThe benefits include delivery of safe, high quality products and also minimized operating costs, improved yields, reduced waste and the acceleration of innovation. Finally, gPROMS FormulatedProducts supports the full process lifecycle, providing solutions in research and development activities through to its use in commercial operations.\nIn this webinar, PSE’s mission for the Food, Beverage and Consumer Goods industries and solutions will be discussed with a focus on the dairy processing industry. The webinar will look at example dairy use cases where digital design and digital operation is adding significant value to major organizations.\nWhat this webinar covers\n- PSE Formulated Products’ mission and vision for the Food, Beverage and Consumer Goods industries\n- Use of mechanistic model-based digital twins across R&D, Engineering and Operations\n- Model libraries including dairy industry manufacturing libraries\n- Collaborative ecosystem\n- PSE and NIZO’s Centre of Excellence for Food Product and Process Modeling \n- Industry use cases\n
DTSTART:20200528T160000
DTEND:20200528T170000
DTSTAMP:20260419T231453Z
LOCATION:Online
PRIORITY:5
SEQUENCE:0
SUMMARY;LANGUAGE=es-es:Tecnowebinars.com - :: Achieve Process Efficiency with Advanced Process & Mechanistic Modeling in the Food & Beverage Industry
TRANSP:OPAQUE
UID:5991454393646c3175cb525c68b8672e Tecnowebinars.com
X-MICROSOFT-CDO-BUSYSTATUS:BUSY
X-MICROSOFT-CDO-IMPORTANCE:1
X-MICROSOFT-DISALLOW-COUNTER:FALSE
X-MS-OLK-ALLOWEXTERNCHECK:TRUE
X-MS-OLK-AUTOFILLLOCATION:FALSE
X-MS-OLK-CONFTYPE:0
BEGIN:VALARM
TRIGGER:-PT1440M
ACTION:DISPLAY
DESCRIPTION:Reminder
END:VALARM
END:VEVENT
END:VCALENDAR
