BEGIN:VCALENDAR
PRODID:-//Microsoft Corporation//Outlook 12.0 MIMEDIR//EN
VERSION:2.0
METHOD:PUBLISH
X-MS-OLK-FORCEINSPECTOROPEN:TRUE
BEGIN:VEVENT
CLASS:PUBLIC
CREATED:20260419T213647Z
DESCRIPTION:To deliver a new mobility experience, 30% of vehicle content will be software by 2030 (McKinsey).\nHowever, snowballing complexity is impacting automotive functional safety as evidenced by increasing vehicle recalls. Thus, it is critical that the software tools used to develop automotive embedded software support ISO 26262 with a unified approach that effectively orchestrates and reduces overall efforts for compliance to increase automotive functional safety.\nIn this webinar we will discuss:\n- Using ALM to orchestrate all software engineering needs\n- Specific ALM Capabilities: Collaboration, Traceability, Interoperability, Compliance, Reuse in an integrated ecosystem\n-ISO 26262 compliance template for safety concept management\n
DTSTART:20200604T170000
DTEND:20200604T180000
DTSTAMP:20260419T213647Z
LOCATION:Online
PRIORITY:5
SEQUENCE:0
SUMMARY;LANGUAGE=es-es:Tecnowebinars.com - :: Increase automotive functional safety with ISO 26262 compliance
TRANSP:OPAQUE
UID:59b0778809ab83994e8621bd521be0d7 Tecnowebinars.com
X-MICROSOFT-CDO-BUSYSTATUS:BUSY
X-MICROSOFT-CDO-IMPORTANCE:1
X-MICROSOFT-DISALLOW-COUNTER:FALSE
X-MS-OLK-ALLOWEXTERNCHECK:TRUE
X-MS-OLK-AUTOFILLLOCATION:FALSE
X-MS-OLK-CONFTYPE:0
BEGIN:VALARM
TRIGGER:-PT1440M
ACTION:DISPLAY
DESCRIPTION:Reminder
END:VALARM
END:VEVENT
END:VCALENDAR
