BEGIN:VCALENDAR
PRODID:-//Microsoft Corporation//Outlook 12.0 MIMEDIR//EN
VERSION:2.0
METHOD:PUBLISH
X-MS-OLK-FORCEINSPECTOROPEN:TRUE
BEGIN:VEVENT
CLASS:PUBLIC
CREATED:20260419T230716Z
DESCRIPTION:Optimizing your 3D print builds is the fastest way to achieve first article print quality.\nIn this webinar, you will learn:\n- How optimizing orientation alleviates many print issues\n- How the proper support structures are key to quality prints\n- How powerful additive manufacturing software aids with both of these processes\n
DTSTART:20200526T200000
DTEND:20200526T210000
DTSTAMP:20260419T230716Z
LOCATION:Online
PRIORITY:5
SEQUENCE:0
SUMMARY;LANGUAGE=es-es:Tecnowebinars.com - :: Optimizing 3D printing for quality
TRANSP:OPAQUE
UID:a19ed96e95286ca834f943805dc2e074 Tecnowebinars.com
X-MICROSOFT-CDO-BUSYSTATUS:BUSY
X-MICROSOFT-CDO-IMPORTANCE:1
X-MICROSOFT-DISALLOW-COUNTER:FALSE
X-MS-OLK-ALLOWEXTERNCHECK:TRUE
X-MS-OLK-AUTOFILLLOCATION:FALSE
X-MS-OLK-CONFTYPE:0
BEGIN:VALARM
TRIGGER:-PT1440M
ACTION:DISPLAY
DESCRIPTION:Reminder
END:VALARM
END:VEVENT
END:VCALENDAR
