BEGIN:VCALENDAR
PRODID:-//Microsoft Corporation//Outlook 12.0 MIMEDIR//EN
VERSION:2.0
METHOD:PUBLISH
X-MS-OLK-FORCEINSPECTOROPEN:TRUE
BEGIN:VEVENT
CLASS:PUBLIC
CREATED:20260419T230807Z
DESCRIPTION:Siemens uses Additive Manufacturing (AM) on an industrial scale – in trains, MRI machines, gas turbines and many other areas. On top of improving individualization of products, AM created parts and products are just better than their traditionally manufactured counterparts for being:\n- Lighter and durable\n- Better aerodynamics\n- Easier to maintain\n- Reduce the need for assembly\n- Better heat distribution\nJoin our webinar and learn how Siemens bring together design, simulation and print preparation on one data backbone to make better parts and products for Additive Manufacturing.\n
DTSTART:20200528T070000
DTEND:20200528T080000
DTSTAMP:20260419T230807Z
LOCATION:Online
PRIORITY:5
SEQUENCE:0
SUMMARY;LANGUAGE=es-es:Tecnowebinars.com - :: 3D Printing - Better Designs Make Better Parts
TRANSP:OPAQUE
UID:b84b53338a1e6e9926659f7f8e76f4b5 Tecnowebinars.com
X-MICROSOFT-CDO-BUSYSTATUS:BUSY
X-MICROSOFT-CDO-IMPORTANCE:1
X-MICROSOFT-DISALLOW-COUNTER:FALSE
X-MS-OLK-ALLOWEXTERNCHECK:TRUE
X-MS-OLK-AUTOFILLLOCATION:FALSE
X-MS-OLK-CONFTYPE:0
BEGIN:VALARM
TRIGGER:-PT1440M
ACTION:DISPLAY
DESCRIPTION:Reminder
END:VALARM
END:VEVENT
END:VCALENDAR
