BEGIN:VCALENDAR
PRODID:-//Microsoft Corporation//Outlook 12.0 MIMEDIR//EN
VERSION:2.0
METHOD:PUBLISH
X-MS-OLK-FORCEINSPECTOROPEN:TRUE
BEGIN:VEVENT
CLASS:PUBLIC
CREATED:20260419T213647Z
DESCRIPTION:VER VIDEO\nLa norma ISO/IEC 29100  se ha convertido en la principal referencia de privacidad utilizada por otras normas ISO como la ISO 27001, en cuanto se requiera incluir controles relacionados con la privacidad de datos personales.\nEste estándar internacional provee una estructura general para la protección de información de identificación personal, con el objetivo de ayudar a las organizaciones a definir los mecanismos de protección relacionados a la privacidad de datos.\nPor otro lado la norma ISO 27001, es el principal marco de buenas prácticas utilizado en el mundo para la Gestión de la Seguridad de la Información.\nEn este webinar vamos a abordar los siguientes apartados:\n- ISO 29100, principios básicos\n- Relación con la ISO 29100 y el RGPD\n- ISO 27001, introducción general\n- Controles de privacidad en la ISO 27001\n- Relación entre los marcos de privacidad ISO 29100 e ISO 27701\nVER VIDEO\n \n
DTSTART:20200622T153000
DTEND:20200622T163000
DTSTAMP:20260419T213647Z
LOCATION:Online
PRIORITY:5
SEQUENCE:0
SUMMARY;LANGUAGE=es-es:Tecnowebinars.com - :: ISO 29100 y 27001. Privacidad y seguridad de la información integradas
TRANSP:OPAQUE
UID:94173bde9da71a3e44a66cea5abaa988 Tecnowebinars.com
X-MICROSOFT-CDO-BUSYSTATUS:BUSY
X-MICROSOFT-CDO-IMPORTANCE:1
X-MICROSOFT-DISALLOW-COUNTER:FALSE
X-MS-OLK-ALLOWEXTERNCHECK:TRUE
X-MS-OLK-AUTOFILLLOCATION:FALSE
X-MS-OLK-CONFTYPE:0
BEGIN:VALARM
TRIGGER:-PT1440M
ACTION:DISPLAY
DESCRIPTION:Reminder
END:VALARM
END:VEVENT
END:VCALENDAR
