BEGIN:VCALENDAR
PRODID:-//Microsoft Corporation//Outlook 12.0 MIMEDIR//EN
VERSION:2.0
METHOD:PUBLISH
X-MS-OLK-FORCEINSPECTOROPEN:TRUE
BEGIN:VEVENT
CLASS:PUBLIC
CREATED:20260419T183159Z
DESCRIPTION:Desarrolladores y Técnicos de las áreas de Administración de Sistemas y Operaciones tienen una relación compleja en la que, en muchas ocasiones, genera una lucha sobre quién domina a quien o sobre quién debe liderar y protagonizar el ciclo de proyectos de ingeniería de software.\nLas técnicas de DevOps se han ofrecido como la gran panacea, para solucionar la complejidad de creación y mantenimiento de múltiples proyectos en un equipo de creación de software. Como es habitual con las píldoras mágicas, no es oro todo lo que reluce, y las buenas técnicas con deficiente gobierno son un seguro de fracaso y frustración, para los diferentes participantes.\nLas primeras dificultades del DevOps, generalmente suelen originarse a nivel humano. La creación de nuevos de circuitos de trabajo e interacción requieren cambios de actitud en los participantes. Este factor humano y la gestión de equipos se suele obviar o minusvalorar y se ha convertido de facto en el principal escollo para el DevOps. Unir fuerzas entre personas que no han trabajado juntos o incluso han sido «rivales» dentro de una organización no es algo baladí. El factor humano y cultural son por tanto claves en un proyecto DevOps.\nEn este webinar nos centraremos en como podemos resolver estos contratiempos y con la ayuda de otros marcos de buenas prácticas, como pueden ser: Agile e ITIL, podemos conseguir una implantación exitosa de los proyectos de Devops.\n
DTSTART:20200730T153000
DTEND:20200730T163000
DTSTAMP:20260419T183159Z
LOCATION:Online
PRIORITY:5
SEQUENCE:0
SUMMARY;LANGUAGE=es-es:Tecnowebinars.com - :: Devops. Ese gran desconocido
TRANSP:OPAQUE
UID:b1851dc4a447a30f621cf211f23278a7 Tecnowebinars.com
X-MICROSOFT-CDO-BUSYSTATUS:BUSY
X-MICROSOFT-CDO-IMPORTANCE:1
X-MICROSOFT-DISALLOW-COUNTER:FALSE
X-MS-OLK-ALLOWEXTERNCHECK:TRUE
X-MS-OLK-AUTOFILLLOCATION:FALSE
X-MS-OLK-CONFTYPE:0
BEGIN:VALARM
TRIGGER:-PT1440M
ACTION:DISPLAY
DESCRIPTION:Reminder
END:VALARM
END:VEVENT
END:VCALENDAR
