BEGIN:VCALENDAR
PRODID:-//Microsoft Corporation//Outlook 12.0 MIMEDIR//EN
VERSION:2.0
METHOD:PUBLISH
X-MS-OLK-FORCEINSPECTOROPEN:TRUE
BEGIN:VEVENT
CLASS:PUBLIC
CREATED:20260419T201108Z
DESCRIPTION:VER VIDEO \nEn el mundo del conocimiento tenemos un grave problema: Nuestro trabajo NO es tangible. Me explico, cuando en una fábrica hay piezas a mitad de hacer, se pueden ver, se pueden tocar y se acumulan en la planta, es lo que se llama inventario.\nEste inventario es increíblemente costoso, es dinero que hemos invertido, que todavía no está produciendo nada y que ocupa un espacio muy caro, por lo tanto en las fábricas intentan reducirlo sea como sea.\nEn el trabajo de conocimiento, cuando un documento se queda a mitad, cuando una pieza de software se queda a mitad, cuando un diseño se queda a mitad, lo único que acumulamos son bits en un disco duro. Bits que no podemos ver y que no podemos tocar, por lo que no somos conscientes del efecto que tienen en nuestra "fábrica".\nDicho esto, ¿qué es Kanban? ¿En qué consiste? Hay dos objetivos que rigen este método productivo: por un lado, lograr un producto de calidad, al obligar a cada fase del proyecto a finalizar su tarea correctamente, y acabar con el caos, saturación o cuello de botella que puede darse en una fase del proyecto en condiciones normales en las que prima la rapidez por encima de la calidad del producto.\nVER VIDEO  \n
DTSTART:20200702T180000
DTEND:20200702T200000
DTSTAMP:20260419T201108Z
LOCATION:Online
PRIORITY:5
SEQUENCE:0
SUMMARY;LANGUAGE=es-es:Tecnowebinars.com - :: KANBAN. Deja de empezar, y empieza a acabar
TRANSP:OPAQUE
UID:f6fc102f3422eaebb4ee4c1a3eb0437d Tecnowebinars.com
X-MICROSOFT-CDO-BUSYSTATUS:BUSY
X-MICROSOFT-CDO-IMPORTANCE:1
X-MICROSOFT-DISALLOW-COUNTER:FALSE
X-MS-OLK-ALLOWEXTERNCHECK:TRUE
X-MS-OLK-AUTOFILLLOCATION:FALSE
X-MS-OLK-CONFTYPE:0
BEGIN:VALARM
TRIGGER:-PT1440M
ACTION:DISPLAY
DESCRIPTION:Reminder
END:VALARM
END:VEVENT
END:VCALENDAR
