BEGIN:VCALENDAR
PRODID:-//Microsoft Corporation//Outlook 12.0 MIMEDIR//EN
VERSION:2.0
METHOD:PUBLISH
X-MS-OLK-FORCEINSPECTOROPEN:TRUE
BEGIN:VEVENT
CLASS:PUBLIC
CREATED:20260419T213647Z
DESCRIPTION:Existen multitud de metodologías para facilitar la gestión de empresas e instituciones. Conocer la opción más adecuada puede dotarnos de ventajas competitivas y aquí, especialmente en tiempos convulsos como los que vivimos, trabajar con metodologías predictivas y ágiles es fundamental.\nUn Webinar para aprender a gestionar proyectos que  tiene como objetivo explorar nuevas maneras de organizar y gestionar el trabajo; conocer herramientas de gestión de proyectos; descubrir métodos para hacer seguimiento de proyectos a través de reflexiones colectivas visuales y creativas; promover la coordinación y transparencia corporativa; potenciar la innovación y la toma de decisiones efectiva y adaptar la gestión empresarial a situaciones de crisis.\nLa metodología de este seminario está enfocada a conocer todos los conceptos introducidos en la gestión de proyectos, con una visión actual centrada en cómo adaptar a las empresas e instituciones frente a situaciones cambiantes del entorno. En este sentido, la sesión se dividirá en dos partes: una ponencia inicial donde conocer los conceptos básicos y las ventajas e inconvenientes de cada metodología, y un taller participativo donde los asistentes podrán compartir conocimiento y dudas para para encontrar la solución a las propuestas planteadas durante la exposición.\nDirigido a:\nCualquier persona que esté interesada en Gestión de proyectos.\n \n \n
DTSTART:20200611T160000
DTEND:20200611T180000
DTSTAMP:20260419T213647Z
LOCATION:Online
PRIORITY:5
SEQUENCE:0
SUMMARY;LANGUAGE=es-es:Tecnowebinars.com - :: Dualidad de metodologías en Gestión de Proyectos
TRANSP:OPAQUE
UID:8e605b9dbe8c738aeab76e4e127e70e7 Tecnowebinars.com
X-MICROSOFT-CDO-BUSYSTATUS:BUSY
X-MICROSOFT-CDO-IMPORTANCE:1
X-MICROSOFT-DISALLOW-COUNTER:FALSE
X-MS-OLK-ALLOWEXTERNCHECK:TRUE
X-MS-OLK-AUTOFILLLOCATION:FALSE
X-MS-OLK-CONFTYPE:0
BEGIN:VALARM
TRIGGER:-PT1440M
ACTION:DISPLAY
DESCRIPTION:Reminder
END:VALARM
END:VEVENT
END:VCALENDAR
