BEGIN:VCALENDAR
PRODID:-//Microsoft Corporation//Outlook 12.0 MIMEDIR//EN
VERSION:2.0
METHOD:PUBLISH
X-MS-OLK-FORCEINSPECTOROPEN:TRUE
BEGIN:VEVENT
CLASS:PUBLIC
CREATED:20260419T231636Z
DESCRIPTION:As we approach the “New Normal,” it’s more important than ever for food brands to ensure their supplier relationships are strong, healthy and tenable. This is especially true in the face of a global pandemic that has caused disruption and demanded flexibility across the supply chain, from inventory levels and supply shortages to supplier force majeures, shifts and emergency additions.\nAt the core of your organization’s success are your suppliers. Join FoodLogiQ for a live demo on Thursday, May 28th at 2 p.m. to discuss the importance of fortifying these relationships during this time, and to learn strategies you can put into place to ensure your business is ready for what’s to come.\n \nDuring the presentation, we’ll discuss: \n \n- Strategies for simple, straightforward supplier documentation management\n- Workflows for automated onboarding and ongoing training\n- Methods for streamlined, open communication\n- Tips for increasing supplier engagement\n- Tactics for ensuring quality data capture and compliance\n
DTSTART:20200528T200000
DTEND:20200528T210000
DTSTAMP:20260419T231636Z
LOCATION:Online
PRIORITY:5
SEQUENCE:0
SUMMARY;LANGUAGE=es-es:Tecnowebinars.com - :: Strengthening Your Supplier Relationships in the New Normal
TRANSP:OPAQUE
UID:2da3b0887a54753bcd3acc562c3ab5b9 Tecnowebinars.com
X-MICROSOFT-CDO-BUSYSTATUS:BUSY
X-MICROSOFT-CDO-IMPORTANCE:1
X-MICROSOFT-DISALLOW-COUNTER:FALSE
X-MS-OLK-ALLOWEXTERNCHECK:TRUE
X-MS-OLK-AUTOFILLLOCATION:FALSE
X-MS-OLK-CONFTYPE:0
BEGIN:VALARM
TRIGGER:-PT1440M
ACTION:DISPLAY
DESCRIPTION:Reminder
END:VALARM
END:VEVENT
END:VCALENDAR
