BEGIN:VCALENDAR
PRODID:-//Microsoft Corporation//Outlook 12.0 MIMEDIR//EN
VERSION:2.0
METHOD:PUBLISH
X-MS-OLK-FORCEINSPECTOROPEN:TRUE
BEGIN:VEVENT
CLASS:PUBLIC
CREATED:20260419T213631Z
DESCRIPTION:GTI Remote Meetups es una selección de sesiones y recursos para aprender, descubrir y conectar con expertos y nuevos socios de negocio. Conoce las estrategias y tácticas que te harán crecer aprovechando el auge del teletrabajo.\nAgenda\n10:00 - 10:20	Kick off\n- Nuevas necesidades de Infraestructura Cloud: Qué servicios sobre qué nube: pública, privada o híbrida\n10:30 - 10:50	Microsoft\n- Adáptate a los cambios en los nuevos modos de trabajo. Entornos híbridos y total disponibilidad\n11:00 - 11:20	Red Hat\n - Respuesta ágil a las necesidades del mercado: Automatización de la infraestrctura\n11:30 -11:50	Veritas\n - Supera tus SLAs de recuperación en el datacenter y en los despliegues cloud\n12:00 - 12:20	Skykick\n - Soluciones para las nuevas necesidades de infraestructura Cloud. \n12:30 - 12:50	Radware\n - CloudWork Load Protection. Visibilidad en la nube\n13:00 - 13:20	VMware\n - VMware: Rental-Ability\n DESCANSO\n15:30 - 15:50	IBM\n - Openshift e Infraestructura como Servicio\n16:00 - 16:20	TrendMicro\n - Seguridad en la Cloud Híbrida \n16:30 - 16:50	Acronis\n - Soluciones de Ciberprotección para entornos Cloud. \n17:00 - 17:20	Zimbra\n - Construye una plataforma de servicios cloud de colaboración y correo electrónico\n
DTSTART:20200604T100000
DTEND:20200604T173000
DTSTAMP:20260419T213631Z
LOCATION:Online
PRIORITY:5
SEQUENCE:0
SUMMARY;LANGUAGE=es-es:Tecnowebinars.com - :: GTI Remote Meetups: Las Nuevas Necesidades de Infraestructura Cloud
TRANSP:OPAQUE
UID:48084b374e23d1fe21f657591aa72391 Tecnowebinars.com
X-MICROSOFT-CDO-BUSYSTATUS:BUSY
X-MICROSOFT-CDO-IMPORTANCE:1
X-MICROSOFT-DISALLOW-COUNTER:FALSE
X-MS-OLK-ALLOWEXTERNCHECK:TRUE
X-MS-OLK-AUTOFILLLOCATION:FALSE
X-MS-OLK-CONFTYPE:0
BEGIN:VALARM
TRIGGER:-PT1440M
ACTION:DISPLAY
DESCRIPTION:Reminder
END:VALARM
END:VEVENT
END:VCALENDAR
