BEGIN:VCALENDAR
PRODID:-//Microsoft Corporation//Outlook 12.0 MIMEDIR//EN
VERSION:2.0
METHOD:PUBLISH
X-MS-OLK-FORCEINSPECTOROPEN:TRUE
BEGIN:VEVENT
CLASS:PUBLIC
CREATED:20260419T230851Z
DESCRIPTION:GTI Remote Meetups es una selección de sesiones y recursos para aprender, descubrir y conectar con expertos y nuevos socios de negocio. Conoce las estrategias y tácticas que te harán crecer aprovechando el auge del teletrabajo.\nAgenda\n10:00 - 10:20	Key Note\n- Cómo construimos ahora nuestra cultura, equipo, organización, carrera y vida en remoto \n10:30 - 10:50	Acronis\n- Cyber Protection: Unificar Data Protection y Cybersecurity\n11:00 - 11:20	Microsoft\n - Escritorios virtuales con Windows 10 y Microsoft 365 en Azure\n11:30 -11:50	Modern Workplace\n - Sistemas de Comunicaciones y Productividad Best in Class\n12:00 - 12:20	TrendMicro\n - Protección contra amenazas en Office 365\n12:30 - 12:50	Adobe\n - Herramientas de productividad para el teletrabajo: Acrobat y Adobe Sign\n13:00 - 13:20	Radware\n - Continuidad de negocio y Entrega de aplicaciones  \n DESCANSO\n15:30 - 15:50	Microsoft\n - Microsoft EMS. Cómo proteger al usuario, sus dispositivos y los datos que comparte\n16:00 - 16:20	Veritas\n - Choosing the Right Enterprise Data Protection Solution: Best Practices & Checklists\n16:30 - 16:50	VMware\n - WSOne: Gestión de aplicaciones multiplataforma\n17:00 - 17:20	Skykick\n - Soluciones Skykick para despliegues de entornos de teletrabajo\n
DTSTART:20200528T100000
DTEND:20200528T173000
DTSTAMP:20260419T230851Z
LOCATION:Online
PRIORITY:5
SEQUENCE:0
SUMMARY;LANGUAGE=es-es:Tecnowebinars.com - :: GTI Remote Meetups: Entornos de Teletrabajo
TRANSP:OPAQUE
UID:d1b5595e5e15c45dbd7d0988b9e7ffd3 Tecnowebinars.com
X-MICROSOFT-CDO-BUSYSTATUS:BUSY
X-MICROSOFT-CDO-IMPORTANCE:1
X-MICROSOFT-DISALLOW-COUNTER:FALSE
X-MS-OLK-ALLOWEXTERNCHECK:TRUE
X-MS-OLK-AUTOFILLLOCATION:FALSE
X-MS-OLK-CONFTYPE:0
BEGIN:VALARM
TRIGGER:-PT1440M
ACTION:DISPLAY
DESCRIPTION:Reminder
END:VALARM
END:VEVENT
END:VCALENDAR
