BEGIN:VCALENDAR
PRODID:-//Microsoft Corporation//Outlook 12.0 MIMEDIR//EN
VERSION:2.0
METHOD:PUBLISH
X-MS-OLK-FORCEINSPECTOROPEN:TRUE
BEGIN:VEVENT
CLASS:PUBLIC
CREATED:20260419T231636Z
DESCRIPTION:How to Protect Your Company from Breach of Contract & Other ERP Risks\nMisrepresentation, breach of contract, undefined roles and responsibilities – all of these errors, on the part of the vendor, consultant or client, can lead to an ERP lawsuit.\n \nSo, as an organization selecting and implementing ERP software, how do you avoid these common landmines?\n \nBill Baumann, Director of Software Expert Witness at Panorama, will tell you how. In this webinar, Bill answers some questions companies should be asking when negotiating contracts, evaluating vendors and implementing software.\n
DTSTART:20200521T190000
DTEND:20200521T200000
DTSTAMP:20260419T231636Z
LOCATION:Online
PRIORITY:5
SEQUENCE:0
SUMMARY;LANGUAGE=es-es:Tecnowebinars.com - :: How to Protect Your Company from Breach of Contract & Other ERP Risks
TRANSP:OPAQUE
UID:9ca3c0dcd4ce755e151262ac267838f5 Tecnowebinars.com
X-MICROSOFT-CDO-BUSYSTATUS:BUSY
X-MICROSOFT-CDO-IMPORTANCE:1
X-MICROSOFT-DISALLOW-COUNTER:FALSE
X-MS-OLK-ALLOWEXTERNCHECK:TRUE
X-MS-OLK-AUTOFILLLOCATION:FALSE
X-MS-OLK-CONFTYPE:0
BEGIN:VALARM
TRIGGER:-PT1440M
ACTION:DISPLAY
DESCRIPTION:Reminder
END:VALARM
END:VEVENT
END:VCALENDAR
