BEGIN:VCALENDAR
PRODID:-//Microsoft Corporation//Outlook 12.0 MIMEDIR//EN
VERSION:2.0
METHOD:PUBLISH
X-MS-OLK-FORCEINSPECTOROPEN:TRUE
BEGIN:VEVENT
CLASS:PUBLIC
CREATED:20260419T231452Z
DESCRIPTION:Te invitamos mañana jueves 14 de mayo a las 10:00h a asistir a nuestro próximo APD Live en el que analizaremos, junto a los mejores expertos, el papel estratégico del CFO frente al Covid-19.\nNo te pierdas esta nueva #ConversaciónDeContingencia en la que contaremos con la participación de Arnaud Petit, CFO de Microsoft, Miguel Ángel González de la Fuente, CFO de LaLiga y Julian Edwards, CFO de Grupo Cosentino.\n \nDespués de la crisis financiera de 2008, el papel del CFO ha ido reforzándose dentro de las organizaciones hasta convertirse en el auténtico guardián del valor empresarial.\n \nUn rol más necesario que nunca frente a la situación actual, llena de incertidumbre y dificultades por la llegada del coronavirus y que ha obligado a las compañías ha adaptase a un nuevo escenario que se anticipa como la antesala de una larga recesión.\n
DTSTART:20200514T100000
DTEND:20200514T110000
DTSTAMP:20260419T231452Z
LOCATION:Online
PRIORITY:5
SEQUENCE:0
SUMMARY;LANGUAGE=es-es:Tecnowebinars.com - :: Pasando a la acción. La gestión estratégica del CFO en el entorno actual
TRANSP:OPAQUE
UID:bb23aec0d5415c300438e4dabfe7729a Tecnowebinars.com
X-MICROSOFT-CDO-BUSYSTATUS:BUSY
X-MICROSOFT-CDO-IMPORTANCE:1
X-MICROSOFT-DISALLOW-COUNTER:FALSE
X-MS-OLK-ALLOWEXTERNCHECK:TRUE
X-MS-OLK-AUTOFILLLOCATION:FALSE
X-MS-OLK-CONFTYPE:0
BEGIN:VALARM
TRIGGER:-PT1440M
ACTION:DISPLAY
DESCRIPTION:Reminder
END:VALARM
END:VEVENT
END:VCALENDAR
