BEGIN:VCALENDAR
PRODID:-//Microsoft Corporation//Outlook 12.0 MIMEDIR//EN
VERSION:2.0
METHOD:PUBLISH
X-MS-OLK-FORCEINSPECTOROPEN:TRUE
BEGIN:VEVENT
CLASS:PUBLIC
CREATED:20260419T230759Z
DESCRIPTION:Curso de Análisis de Estados Financieros, que se impartirá en directo por internet vía webinar los próximos 26 y 27 de mayo (8:30 a 14.30) (12 horas) (100% bonificable), o que podrá seguir con posterioridad viendo la grabación y su documentación. El webinar es una videoconferencia interactiva.\nUn curso completo para comprender en profundidad la situación de la empresa a través de sus estados financieros: balance, cuenta de resultados, flujos de efectivo y cambios en el patrimonio neto.\n \nImprescindible para refrescar los conocimientos de los responsables financieros, analistas de riesgos y gerentes de empresa que deseen conocer la salud financiera de su compañía o de aquellas con las que hacen negocios, ya sean clientes o proveedores.\n \n2 SESIONES (a las que se puede asistir de forma independiente o en conjunto):\n \n- 26 de mayo: Análisis del Balance y la Cuenta de Resultados.\n- 27 de mayo: Análisis de los Estados de Flujos de Efectivo y Cambios en el Patrimonio Neto.\n \nObjetivos:\n \n- Balance y Cuenta de Resultados:\n- Conocer los elementos clave del balance y la cuenta de resultados.\n- Distinguir la calidad de los activos.\n- Comprender los diferentes instrumentos de patrimonio neto.\n- Conocer el equilibrio de las masas patrimoniales.\n- Analizar el balance y la cuenta de resultados en base a ratios.\n- Aplicar los conocimientos mediante casos prácticos reales.\n \nEstado de Flujos de Efectivo:\n \n- Mostrar la capacidad de la empresa para hacer frente a sus compromisos de pago, así como el origen de los cambios en la tesorería de un periodo a otro.\n- Mostrar la capacidad de la empresa para generar efectivo necesario para financiar la actividad.\n- Cómo y en qué cuantía obtiene y destina efectivo.\n- Cómo es la estructura financiera y las variaciones de los activos de la empresa.\n- Cómo analizar el estado de flujos de efectivo.\n \nEstado de Cambios en el Patrimonio Neto:\n \n- Diferencias por amortización acelerada\n- Plusvalías y minusvalías de instrumentos de Patrimonio\n- Ajustes por errores contables\n- Ampliación de capital mediante compensación de créditos\n- Donación de un importe por parte de un socio\n \n- Operaciones con los socios: Alquiler a un precio por debajo del de mercado\n- Operaciones con los socios. Préstamos a tipo 0\n- Operaciones con los socios. Condonación de una deuda. Etc…\n \nA la finalización del curso, cada alumno recibirá un Diploma Acreditativo expedido por la Escuela Internacional de Finanzas.\n \nPor último, tanto este curso, adaptado a su horario y necesidades, como cualquier otro tema que precise, podemos impartirlo in company en su empresa de forma personalizada y por webinar en directo o diferido. Háganos saber sus necesidades de formación y le realizaremos un programa y presupuesto a su medida.\n
DTSTART:20200526T080000
DTEND:20200526T143000
DTSTAMP:20260419T230759Z
LOCATION:Online
PRIORITY:5
SEQUENCE:0
SUMMARY;LANGUAGE=es-es:Tecnowebinars.com - :: Curso de Análisis de Estados Financieros
TRANSP:OPAQUE
UID:d722943cc2aabf0df6a8cf7dad74da5d Tecnowebinars.com
X-MICROSOFT-CDO-BUSYSTATUS:BUSY
X-MICROSOFT-CDO-IMPORTANCE:1
X-MICROSOFT-DISALLOW-COUNTER:FALSE
X-MS-OLK-ALLOWEXTERNCHECK:TRUE
X-MS-OLK-AUTOFILLLOCATION:FALSE
X-MS-OLK-CONFTYPE:0
BEGIN:VALARM
TRIGGER:-PT1440M
ACTION:DISPLAY
DESCRIPTION:Reminder
END:VALARM
END:VEVENT
END:VCALENDAR
