BEGIN:VCALENDAR
PRODID:-//Microsoft Corporation//Outlook 12.0 MIMEDIR//EN
VERSION:2.0
METHOD:PUBLISH
X-MS-OLK-FORCEINSPECTOROPEN:TRUE
BEGIN:VEVENT
CLASS:PUBLIC
CREATED:20260419T213505Z
DESCRIPTION:Cloud Architecture Summit is a multi-vendor online event to feature technologies and Best Practices to design and deliver agile and end-to-end integration for the digital enterprise.\nSpeakers will focus on use cases across on-premises, cloud, iPaaS, PaaS, SaaS and trusted APIs.\n- Hybrid Integration & iPaaS - Smarter, Faster, Easier\nSee how 2019's cloud platforms and services deliver deeper insights, agile integration, dynamic apps and real-time IoT - all with iron-clad security.\n \n- Microservices & APIs - Agile Apps & Integration\nLearn how to avoid the pitfalls of API delays, the difficulties of distributed transactional management, versioning and team coordination.\n \n- Cloud-Native Apps - New-Gen Clouds Power New-Gen Apps\nReady to take the next-step with cloud-driven apps? Learn how cloud supports today's popular and emerging options -- APIs, microservices, containers, serverless, cloud-native and FaaS/SaaF.\n \n- Hybrid & Multi-Cloud - Enterprise Class Ops\nOnce you adopt a hybrid, multi-cloud architecture learn how to retain deep visibility and total control. See how F1000s maintain resiliency and responsiveness for business-critical apps, data, policies and security.\n \n- APM & Time Series - Real-Time Insights from Diverse Data\nEnsure rapid, reliable and accurate business insights from diverse data. Secrets to success for business users, data specialist, IT operations and developers.\n \n- AI/ML - Cloud Powered Revolution\nAI and Machine Learning continue to grab headlines. Get a look at some of the hottest trends in cloud-based AI/ML, and how they help developers, QA, IT operations and business users.\n
DTSTART:20200611T190000
DTEND:20200611T200000
DTSTAMP:20260419T213505Z
LOCATION:Online
PRIORITY:5
SEQUENCE:0
SUMMARY;LANGUAGE=es-es:Tecnowebinars.com - :: Cloud Architecture Summit
TRANSP:OPAQUE
UID:7db754e3a7219133954df44efff76b51 Tecnowebinars.com
X-MICROSOFT-CDO-BUSYSTATUS:BUSY
X-MICROSOFT-CDO-IMPORTANCE:1
X-MICROSOFT-DISALLOW-COUNTER:FALSE
X-MS-OLK-ALLOWEXTERNCHECK:TRUE
X-MS-OLK-AUTOFILLLOCATION:FALSE
X-MS-OLK-CONFTYPE:0
BEGIN:VALARM
TRIGGER:-PT1440M
ACTION:DISPLAY
DESCRIPTION:Reminder
END:VALARM
END:VEVENT
END:VCALENDAR
