BEGIN:VCALENDAR
PRODID:-//Microsoft Corporation//Outlook 12.0 MIMEDIR//EN
VERSION:2.0
METHOD:PUBLISH
X-MS-OLK-FORCEINSPECTOROPEN:TRUE
BEGIN:VEVENT
CLASS:PUBLIC
CREATED:20260419T213504Z
DESCRIPTION:Blake Moret is Chairman and CEO of Rockwell Automation, the world’s largest company singularly focused on industrial automation and information. As CEO, Blake is dedicated to delivering the company’s strategy to bring the Connected Enterprise to life.\nUnder his leadership, Rockwell Automation integrates control and information to help make industrial companies and their people more productive and the world more sustainable. Blake is accelerating the Rockwell Automation strategy by focusing on understanding customer needs and their best opportunities for productivity, combining our technology and domain expertise to deliver positive business outcomes, and simplifying our customers’ experience.\nJoining Rockwell Automation in 1985 as a sales trainee, Blake has built his career with the company and has held leadership positions in many areas of the business, including international assignments in Europe and Canada. In his previous role, Blake served as Senior Vice President of Control Products and Solutions, one of the company’s two business segments.\nBlake became CEO on July 1, 2016 and was elected Chairman of the Board effective January 1, 2018. He is passionate about workforce development and creating a diverse worldwide team of employees that can and want to do their best work.\nHe serves on the PTC, Inc. Board of Directors, the Executive Committee of the National Association of Manufacturers (NAM), and is a member of the Business Roundtable. He also serves on the board of the ARMI Advanced Regenerative Medicine Institute and the Georgia Tech Advisory Board.\n
DTSTART:20200609T220000
DTEND:20200609T224500
DTSTAMP:20260419T213504Z
LOCATION:Online
PRIORITY:5
SEQUENCE:0
SUMMARY;LANGUAGE=es-es:Tecnowebinars.com - :: Essential With Purpose
TRANSP:OPAQUE
UID:88efa1b64fc4a1c018f2f68cf955638e Tecnowebinars.com
X-MICROSOFT-CDO-BUSYSTATUS:BUSY
X-MICROSOFT-CDO-IMPORTANCE:1
X-MICROSOFT-DISALLOW-COUNTER:FALSE
X-MS-OLK-ALLOWEXTERNCHECK:TRUE
X-MS-OLK-AUTOFILLLOCATION:FALSE
X-MS-OLK-CONFTYPE:0
BEGIN:VALARM
TRIGGER:-PT1440M
ACTION:DISPLAY
DESCRIPTION:Reminder
END:VALARM
END:VEVENT
END:VCALENDAR
