BEGIN:VCALENDAR
PRODID:-//Microsoft Corporation//Outlook 12.0 MIMEDIR//EN
VERSION:2.0
METHOD:PUBLISH
X-MS-OLK-FORCEINSPECTOROPEN:TRUE
BEGIN:VEVENT
CLASS:PUBLIC
CREATED:20260419T213505Z
DESCRIPTION:Stacey Higginbotham has been covering technology for major publications for 20 years, and currently covers the industrial, enterprise, and consumer internet of things.\nShe is co-host of the Internet of Things Podcast and publisher of the Stacey on IoT newsletter analyzing the latest trends and news in IoT. Her work has also appeared in Fortune (where she was Senior Editor), MIT Tech Review, IEEE Spectrum, and Gigaom.\n
DTSTART:20200609T210000
DTEND:20200609T214500
DTSTAMP:20260419T213505Z
LOCATION:Online
PRIORITY:5
SEQUENCE:0
SUMMARY;LANGUAGE=es-es:Tecnowebinars.com - :: Build A Business Model On Top Of Your IOT Investment
TRANSP:OPAQUE
UID:3140f4220be04aeff6c61d874e65dacd Tecnowebinars.com
X-MICROSOFT-CDO-BUSYSTATUS:BUSY
X-MICROSOFT-CDO-IMPORTANCE:1
X-MICROSOFT-DISALLOW-COUNTER:FALSE
X-MS-OLK-ALLOWEXTERNCHECK:TRUE
X-MS-OLK-AUTOFILLLOCATION:FALSE
X-MS-OLK-CONFTYPE:0
BEGIN:VALARM
TRIGGER:-PT1440M
ACTION:DISPLAY
DESCRIPTION:Reminder
END:VALARM
END:VEVENT
END:VCALENDAR
