BEGIN:VCALENDAR
PRODID:-//Microsoft Corporation//Outlook 12.0 MIMEDIR//EN
VERSION:2.0
METHOD:PUBLISH
X-MS-OLK-FORCEINSPECTOROPEN:TRUE
BEGIN:VEVENT
CLASS:PUBLIC
CREATED:20260419T213541Z
DESCRIPTION:Kimberly Bryant is the Founder and CEO of Black Girls CODE, a non-profit organization dedicated to “changing the face of technology” by introducing girls of color (ages 7-17) to the field of technology and computer science with a concentration on entrepreneurial concepts.\nPrior to starting Black Girls CODE, Kimberly enjoyed a successful 20+ year professional career in the pharmaceutical and biotech industries as an Engineering Manager in a series of technical leadership roles for various Fortune 50 companies such as Genentech, Merck, and Pfizer.\nSince 2011 Kimberly has helped Black Girls CODE grow from a local grassroots initiative serving only the Bay Area, to an international organization with fourteen chapters across the U.S. and in Johannesburg, South Africa. Black Girls CODE has currently reached over 10,000 students and continues to grow and thrive.\nKimberly has been nationally recognized as a thought leader for her work to increase opportunities for women and girls in the technology industry and has received numerous awards for her work with Black Girls CODE.\nKimberly has been awarded the prestigious Jefferson Award for Community Service for her work to support communities in the Bay Area, named by Business Insider on its list of “The 25 Most Influential African-Americans in Technology”, and named to The Root 100 and the Ebony Power 100 lists in2013.\nKimberly has been named one of FastCompany’s Most Creative People. Kimberly was named a White House as a Champion of Change for her work in tech inclusion and for her focus on bridging the digital divide for girls of color and received an Ingenuity Award in Social Progress from the Smithsonian Institute.\nShe has been identified as a thought leader in the area of tech inclusion and has spoken on the topic at conferences nationally and internationally such as the Personal Democracy Forum, TedX Kansas City, Platform Summit, Big Ideas Festival, South By Southwest (SXSW), and many others.\n
DTSTART:20200609T180000
DTEND:20200609T184500
DTSTAMP:20260419T213541Z
LOCATION:Online
PRIORITY:5
SEQUENCE:0
SUMMARY;LANGUAGE=es-es:Tecnowebinars.com - :: Finding Opportunity In Times Of Uncertainty
TRANSP:OPAQUE
UID:69a7b860cb7d52cb4a84fa4258a47e82 Tecnowebinars.com
X-MICROSOFT-CDO-BUSYSTATUS:BUSY
X-MICROSOFT-CDO-IMPORTANCE:1
X-MICROSOFT-DISALLOW-COUNTER:FALSE
X-MS-OLK-ALLOWEXTERNCHECK:TRUE
X-MS-OLK-AUTOFILLLOCATION:FALSE
X-MS-OLK-CONFTYPE:0
BEGIN:VALARM
TRIGGER:-PT1440M
ACTION:DISPLAY
DESCRIPTION:Reminder
END:VALARM
END:VEVENT
END:VCALENDAR
