BEGIN:VCALENDAR
PRODID:-//Microsoft Corporation//Outlook 12.0 MIMEDIR//EN
VERSION:2.0
METHOD:PUBLISH
X-MS-OLK-FORCEINSPECTOROPEN:TRUE
BEGIN:VEVENT
CLASS:PUBLIC
CREATED:20260419T213630Z
DESCRIPTION:To compete, particularly during times of disruption and accelerated digital transformation, companies need best in class technology, choices that meet their changing needs, and success offerings to capture value faster.\nJoin Kevin Wrenn, EVP of Products, and Eduarda Camacho, EVP and Chief Customer Officer, for an interactive discussion unveiling new PTC technology across our portfolio and with our strategic partners, and case studies of the companies that have capitalized on digital transformation to thrive in an era of disruption.\n
DTSTART:20200609T150000
DTEND:20200609T154500
DTSTAMP:20260419T213630Z
LOCATION:Online
PRIORITY:5
SEQUENCE:0
SUMMARY;LANGUAGE=es-es:Tecnowebinars.com - :: Digital Transformation: The Technology and Support You Need To Succeed
TRANSP:OPAQUE
UID:d1b8ac9f44d91bff3a4003697cdea816 Tecnowebinars.com
X-MICROSOFT-CDO-BUSYSTATUS:BUSY
X-MICROSOFT-CDO-IMPORTANCE:1
X-MICROSOFT-DISALLOW-COUNTER:FALSE
X-MS-OLK-ALLOWEXTERNCHECK:TRUE
X-MS-OLK-AUTOFILLLOCATION:FALSE
X-MS-OLK-CONFTYPE:0
BEGIN:VALARM
TRIGGER:-PT1440M
ACTION:DISPLAY
DESCRIPTION:Reminder
END:VALARM
END:VEVENT
END:VCALENDAR
