BEGIN:VCALENDAR
PRODID:-//Microsoft Corporation//Outlook 12.0 MIMEDIR//EN
VERSION:2.0
METHOD:PUBLISH
X-MS-OLK-FORCEINSPECTOROPEN:TRUE
BEGIN:VEVENT
CLASS:PUBLIC
CREATED:20260419T230806Z
DESCRIPTION:Los sistemas de visión de la serie In-Sight D900 son una solución única en su género. Cuentan con el software de Deep Learning ViDi™ de Cognex integrado en una cámara inteligente In-Sight.\nDurante este webinar nuestro experto responderá a las siguientes preguntas:\n \n- ¿Cuál es la nueva propuesta de Cognex al Deep Learning con el In-Sight D900?\n- ¿Qué es el Deep Learning, y cómo podemos usarlo para resolver aplicaciones que antes eran difíciles de automatizar?\n- ¿Qué tipo de aplicaciones son las más indicadas para resolver con el In-Sight D900?\n
DTSTART:20200518T120000
DTEND:20200518T130000
DTSTAMP:20260419T230806Z
LOCATION:Online
PRIORITY:5
SEQUENCE:0
SUMMARY;LANGUAGE=es-es:Tecnowebinars.com - :: IN-SIGHT D900: PRIMERA CÁMARA INTELIGENTE CON SOFTWARE DE DEEP LEARNING INTEGRADO
TRANSP:OPAQUE
UID:3bbbd03e018f19918e171ce9456f1430 Tecnowebinars.com
X-MICROSOFT-CDO-BUSYSTATUS:BUSY
X-MICROSOFT-CDO-IMPORTANCE:1
X-MICROSOFT-DISALLOW-COUNTER:FALSE
X-MS-OLK-ALLOWEXTERNCHECK:TRUE
X-MS-OLK-AUTOFILLLOCATION:FALSE
X-MS-OLK-CONFTYPE:0
BEGIN:VALARM
TRIGGER:-PT1440M
ACTION:DISPLAY
DESCRIPTION:Reminder
END:VALARM
END:VEVENT
END:VCALENDAR
