BEGIN:VCALENDAR
PRODID:-//Microsoft Corporation//Outlook 12.0 MIMEDIR//EN
VERSION:2.0
METHOD:PUBLISH
X-MS-OLK-FORCEINSPECTOROPEN:TRUE
BEGIN:VEVENT
CLASS:PUBLIC
CREATED:20260419T231458Z
DESCRIPTION:Join us for the Reuters Events virtual masterclass in innovation, leadership development, strategy execution & value creation in a disrupted world. \nGreat, enduring organizations know what it really takes to create and, most importantly, scale-up during market disruptions so use these uncertain times to explore how to truly deliver an Energy organization that consistently delivers exceptional leaders, growth and value creation. \n \nFeaturing insight from: Jose Pires, Founder & President, Global Excellence & Innovation.\n \nDuring this 1-hour session we will explore how to blend disciplined innovation methods with elements of venture capitalism, crowdsourcing and collaborative leadership to deliver rapid and sustainable business improvements and innovations in the Energy industry. \n \nIncluding specific case study insight looking at how a Fortune 100 energy company: \n \n• Identified, prioritized and successfully executed more than 2,000 innovations yielding over $1 billion in additional earnings within 18 months.\n• Increased market value 18-fold by engaging all employees and implementing idea meritocracy systems for business excellence and innovation execution.\n• Transformed its business on the face of technological disruptions to win multiple global excellence and innovation awards, and be ranked the #1 US company for leaders and leadership development.\n
DTSTART:20200507T170000
DTEND:20200507T180000
DTSTAMP:20260419T231458Z
LOCATION:Online
PRIORITY:5
SEQUENCE:0
SUMMARY;LANGUAGE=es-es:Tecnowebinars.com - :: Energy Disruption: How Great People and Organizations Innovate in Times of Rapid Change
TRANSP:OPAQUE
UID:858ed5ec747bc2a566b333c1c24050cf Tecnowebinars.com
X-MICROSOFT-CDO-BUSYSTATUS:BUSY
X-MICROSOFT-CDO-IMPORTANCE:1
X-MICROSOFT-DISALLOW-COUNTER:FALSE
X-MS-OLK-ALLOWEXTERNCHECK:TRUE
X-MS-OLK-AUTOFILLLOCATION:FALSE
X-MS-OLK-CONFTYPE:0
BEGIN:VALARM
TRIGGER:-PT1440M
ACTION:DISPLAY
DESCRIPTION:Reminder
END:VALARM
END:VEVENT
END:VCALENDAR
