BEGIN:VCALENDAR
PRODID:-//Microsoft Corporation//Outlook 12.0 MIMEDIR//EN
VERSION:2.0
METHOD:PUBLISH
X-MS-OLK-FORCEINSPECTOROPEN:TRUE
BEGIN:VEVENT
CLASS:PUBLIC
CREATED:20260419T230809Z
DESCRIPTION:Many marketing leaders fear that migrating to a new marketing automation platform will jeopardize their ability to drive revenue.\nWhile this is a valid concern, you can keep your revenue engine humming while making the move to a platform that’s right for your business now (and into the future).\nIn this webinar May 14th, experts Carlos Hidalgo, Chief Strategy Officer at DemandGen, and Shauna Wager, Head of Customer Success at DemandGen, share stories of how leading companies like Centurylink, Global Atlantic, and EFI have successfully made the move and dig into important topics like:\n \n- Signs it may be time for your organization to make a move.\n- Tips for evaluating potential vendors.\n- What to expect along the migration journey.\n- Proven best practices for minimizing business disruption.\n- How to deliver quick wins and demonstrate ROI to key stakeholders.\n
DTSTART:20200514T190000
DTEND:20200514T200000
DTSTAMP:20260419T230809Z
LOCATION:Online
PRIORITY:5
SEQUENCE:0
SUMMARY;LANGUAGE=es-es:Tecnowebinars.com - :: What to Expect When Migrating Marketing Automation Platforms
TRANSP:OPAQUE
UID:fe4dd7ebb3a0184f3616921a2430476c Tecnowebinars.com
X-MICROSOFT-CDO-BUSYSTATUS:BUSY
X-MICROSOFT-CDO-IMPORTANCE:1
X-MICROSOFT-DISALLOW-COUNTER:FALSE
X-MS-OLK-ALLOWEXTERNCHECK:TRUE
X-MS-OLK-AUTOFILLLOCATION:FALSE
X-MS-OLK-CONFTYPE:0
BEGIN:VALARM
TRIGGER:-PT1440M
ACTION:DISPLAY
DESCRIPTION:Reminder
END:VALARM
END:VEVENT
END:VCALENDAR
