BEGIN:VCALENDAR
PRODID:-//Microsoft Corporation//Outlook 12.0 MIMEDIR//EN
VERSION:2.0
METHOD:PUBLISH
X-MS-OLK-FORCEINSPECTOROPEN:TRUE
BEGIN:VEVENT
CLASS:PUBLIC
CREATED:20260419T231457Z
DESCRIPTION:Manufacturing is an industry that is particularly well-suited to leaning on analytics and AI to improve its business and processes, with lots of readily available data and many potential levers to pull.\nFor Ben Dubois, Operations Analyst at Norfolk Iron & Metal, that’s precisely his job – to identify more levers to help one of the nation’s largest carbon steel providers improve its logistics and business operations.\n \nCheck out Ben's journey to becoming an AI Leader, including:\n \n- What analytics was like before DataRobot (hint: lots of spreadsheets)\n- How AI and advanced analytics can help the company eliminate archaic tribal knowledge\n- What else lies ahead on the horizon, including logistics and sales forecasting\n
DTSTART:20200512T203000
DTEND:20200512T211500
DTSTAMP:20260419T231457Z
LOCATION:Online
PRIORITY:5
SEQUENCE:0
SUMMARY;LANGUAGE=es-es:Tecnowebinars.com - :: Norfolk Iron and Metal Manufactures Business Advantage with AI
TRANSP:OPAQUE
UID:4b4c2b560b304f36fbe89fc1ec77c481 Tecnowebinars.com
X-MICROSOFT-CDO-BUSYSTATUS:BUSY
X-MICROSOFT-CDO-IMPORTANCE:1
X-MICROSOFT-DISALLOW-COUNTER:FALSE
X-MS-OLK-ALLOWEXTERNCHECK:TRUE
X-MS-OLK-AUTOFILLLOCATION:FALSE
X-MS-OLK-CONFTYPE:0
BEGIN:VALARM
TRIGGER:-PT1440M
ACTION:DISPLAY
DESCRIPTION:Reminder
END:VALARM
END:VEVENT
END:VCALENDAR
