BEGIN:VCALENDAR
PRODID:-//Microsoft Corporation//Outlook 12.0 MIMEDIR//EN
VERSION:2.0
METHOD:PUBLISH
X-MS-OLK-FORCEINSPECTOROPEN:TRUE
BEGIN:VEVENT
CLASS:PUBLIC
CREATED:20260419T213505Z
DESCRIPTION:Design, evaluate and implement appealing interior and exterior sounds for your electric vehicle\n \nActive sound design answers the new acoustic challenges of electric vehicles. As these cars are silent while driving at low speed, governments world-wide are imposing new requirements to integrate Acoustic Vehicle Alerting Systems (AVAS) to protect pedestrians and other traffic users. On the other hand, while driving on higher speeds, electric vehicles need extra refinement of the wind and road noise to enhance the sound quality in the cabin. To tackle both challenges, the automotive industry is adopting new approaches such as adding new sound layer using active sound design solutions.\nJoin this webinar on active sound design and learn how to:\n \n1- Create active sounds for interior and AVAS from scratch reflecting your brand’s image\n \n2- Test and finetune them on the actual vehicle and match them to customer expectations\n \n3- Implement good AVAS sounds in your vehicle that still comply with legal requirements\n
DTSTART:20200616T110000
DTEND:20200616T120000
DTSTAMP:20260419T213505Z
LOCATION:Online
PRIORITY:5
SEQUENCE:0
SUMMARY;LANGUAGE=es-es:Tecnowebinars.com - :: How to make remarkable sound of electrified vehicles inside out with active sound design
TRANSP:OPAQUE
UID:5e6f01134d8c7fdf6e3f175b6ed14925 Tecnowebinars.com
X-MICROSOFT-CDO-BUSYSTATUS:BUSY
X-MICROSOFT-CDO-IMPORTANCE:1
X-MICROSOFT-DISALLOW-COUNTER:FALSE
X-MS-OLK-ALLOWEXTERNCHECK:TRUE
X-MS-OLK-AUTOFILLLOCATION:FALSE
X-MS-OLK-CONFTYPE:0
BEGIN:VALARM
TRIGGER:-PT1440M
ACTION:DISPLAY
DESCRIPTION:Reminder
END:VALARM
END:VEVENT
END:VCALENDAR
