BEGIN:VCALENDAR
PRODID:-//Microsoft Corporation//Outlook 12.0 MIMEDIR//EN
VERSION:2.0
METHOD:PUBLISH
X-MS-OLK-FORCEINSPECTOROPEN:TRUE
BEGIN:VEVENT
CLASS:PUBLIC
CREATED:20260419T213652Z
DESCRIPTION:Autonomous vehicles use multiple sensors to perceive driving scenes. Sensor fusion leverages Machine Learning and integrates multi-modal sensor data into a precise understanding of the driving environment. This scene interpretation is then used to adaptively learn realistic driving behavior and traffic patterns.\n \nIn this webinar, you will hear from our experts how precise scene understanding and navigation can be achieved using sensor fusion and deep learning. \n \nExamples will include:\n \n- Multi-sensor, multi-object detection and tracking, localization and mapping\n- Scene visualization to train the driving policy using deep learning techniques (imitation learning, reinforcement learning)\n- Virtual scenario generation and simulation-based validation\n
DTSTART:20200610T120000
DTEND:20200610T130000
DTSTAMP:20260419T213652Z
LOCATION:Online
PRIORITY:5
SEQUENCE:0
SUMMARY;LANGUAGE=es-es:Tecnowebinars.com - :: Deep sensor fusion for perception and navigation of complex real-world driving scenes
TRANSP:OPAQUE
UID:c70705069d19fc47d618c6417c61ecfd Tecnowebinars.com
X-MICROSOFT-CDO-BUSYSTATUS:BUSY
X-MICROSOFT-CDO-IMPORTANCE:1
X-MICROSOFT-DISALLOW-COUNTER:FALSE
X-MS-OLK-ALLOWEXTERNCHECK:TRUE
X-MS-OLK-AUTOFILLLOCATION:FALSE
X-MS-OLK-CONFTYPE:0
BEGIN:VALARM
TRIGGER:-PT1440M
ACTION:DISPLAY
DESCRIPTION:Reminder
END:VALARM
END:VEVENT
END:VCALENDAR
