BEGIN:VCALENDAR
PRODID:-//Microsoft Corporation//Outlook 12.0 MIMEDIR//EN
VERSION:2.0
METHOD:PUBLISH
X-MS-OLK-FORCEINSPECTOROPEN:TRUE
BEGIN:VEVENT
CLASS:PUBLIC
CREATED:20260419T230716Z
DESCRIPTION:Today, consumers are more health and environmentally concscious, resulting in a increased expectation of expanded product choices, premium quality, and lower prices. To maintain customer loyalty, CPG manufacturers continuously need to focus on adapting and prioritizing innovation.\n \nThis webinar presents the benefits of digitalizing manufacturing operations in the CPG industry. Learn how your company can deliver more efficient manufacturing, resulting in lower costs and more flexible operations while supporting all product and customer quality requirements.\n \nFeatures of this webinar include:\n \n- Vertical integration: synchronize business and manufacturing by connecting processes and distributing information.\n- Production execution: reduce errors and costs of manufacturing by orchestration of tasks through automation, systems, and operators.\n- Integrated quality: enable orchestrated at line and off-line testing by integrating quality tests in all shop floor processes.\n
DTSTART:20200526T140000
DTEND:20200526T150000
DTSTAMP:20260419T230716Z
LOCATION:Online
PRIORITY:5
SEQUENCE:0
SUMMARY;LANGUAGE=es-es:Tecnowebinars.com - :: CPG Industry Manufacturing in the Digital Age
TRANSP:OPAQUE
UID:e963c8e2fb59dbb9a13e93ff3259f2fc Tecnowebinars.com
X-MICROSOFT-CDO-BUSYSTATUS:BUSY
X-MICROSOFT-CDO-IMPORTANCE:1
X-MICROSOFT-DISALLOW-COUNTER:FALSE
X-MS-OLK-ALLOWEXTERNCHECK:TRUE
X-MS-OLK-AUTOFILLLOCATION:FALSE
X-MS-OLK-CONFTYPE:0
BEGIN:VALARM
TRIGGER:-PT1440M
ACTION:DISPLAY
DESCRIPTION:Reminder
END:VALARM
END:VEVENT
END:VCALENDAR
