BEGIN:VCALENDAR
PRODID:-//Microsoft Corporation//Outlook 12.0 MIMEDIR//EN
VERSION:2.0
METHOD:PUBLISH
X-MS-OLK-FORCEINSPECTOROPEN:TRUE
BEGIN:VEVENT
CLASS:PUBLIC
CREATED:20260419T231733Z
DESCRIPTION:Agricultural, construction, and mining equipment manufacturers are under constant pressure to deliver machines with ever-increasing power, uptime, and productivity in harsh environments while meeting emissions reduction targets and regulations standards.\n \nIt is crucial to test, validate, optimize and certify machines within the constraints of shorter testing cycles, conflicting performance requirements, growing product complexity and reduced costs.\n \nOne of the key attributes that manufacturers have to consider when bringing a competitive machine to the market is its reliability, by ensuring structural integrity and durability. However, durability performance should not be improved at the cost of the operator’s comfort and safety.\n \nParallel to excelling at durability evaluation, manufacturing designs must meet regulation requirements of noise, vibration and harshness (NVH) and with even improved situation of operator’s safety and comfort to gain competitive advantage.\n \nDesigning top-of-the-line machines considers troubleshooting for NVH and systematic engineering methods to predict the performance as early as possible.\n \nIn this webinar you will learn how to:\n \n- Reduce costs up to more than 30% thanks to a single testing platform covering durability, NVH and comfort.\n- Increase productivity by implementing smart test processes.\n- Accelerate innovation by predicting the performance as early as possible.\n- Improve collaboration by reducing gap between test and simulation.\n \n
DTSTART:20200526T110000
DTEND:20200526T120000
DTSTAMP:20260419T231733Z
LOCATION:Online
PRIORITY:5
SEQUENCE:0
SUMMARY;LANGUAGE=es-es:Tecnowebinars.com - :: How to reduce development cost and time of your heavy equipment without compromising on durability, efficiency and operator comfort
TRANSP:OPAQUE
UID:202e1971e42cb945d626ada927f88419 Tecnowebinars.com
X-MICROSOFT-CDO-BUSYSTATUS:BUSY
X-MICROSOFT-CDO-IMPORTANCE:1
X-MICROSOFT-DISALLOW-COUNTER:FALSE
X-MS-OLK-ALLOWEXTERNCHECK:TRUE
X-MS-OLK-AUTOFILLLOCATION:FALSE
X-MS-OLK-CONFTYPE:0
BEGIN:VALARM
TRIGGER:-PT1440M
ACTION:DISPLAY
DESCRIPTION:Reminder
END:VALARM
END:VEVENT
END:VCALENDAR
