BEGIN:VCALENDAR
PRODID:-//Microsoft Corporation//Outlook 12.0 MIMEDIR//EN
VERSION:2.0
METHOD:PUBLISH
X-MS-OLK-FORCEINSPECTOROPEN:TRUE
BEGIN:VEVENT
CLASS:PUBLIC
CREATED:20260419T213653Z
DESCRIPTION:Designing hybrid electric vehicles of tomorrow means predicting and balancing the performance of various attributes, such as fuel economy, power, comfort, and drivability. Getting insights early in the development cycle is valuable as multiple iterations of different hardware configurations and control strategies can be simulated and analyzed.\n \nDeveloping the optimal supervisory controller overseeing the complete energy management strategy is complex, even more for hybrid architecture, and such a complexity increase can be tackled thanks to model-based optimization approaches.\n \nIn this webinar, experts will explain how to extend the system simulation-based methodology used in design phases to control development and calibration of hybrid powertrain systems. In addition, model-based development will allow to consider attributes balancing at earlier development sateg, which was not possible with test based calibration.\n \nDr. Jae Sung Bang from Hyundai Motor will precisely detail how they’re implementing model-based calibration for HEV control logic with high fidelity vehicle model, and how to deploy closed loop simulation model of transmission mounted electric device HEV which contains main controllers such as HCU, EMS, TCU, MCU, etc.\n \nYou will learn:\n \n- How to use system simulation and multi-level models to design and validate complex control strategies for hybrid vehicles\n- How to deploy the right models with the right level of fidelity to answer to hybrid controls requirements and optimal attributes balancing\n- How to extend classical powertrain virtual control development at upper level to tackle hybrid vehicle increased complexity.\n
DTSTART:20200604T110000
DTEND:20200604T120000
DTSTAMP:20260419T213653Z
LOCATION:Online
PRIORITY:5
SEQUENCE:0
SUMMARY;LANGUAGE=es-es:Tecnowebinars.com - :: Frontloading hybrid vehicles controls development and calibration with multi-level simulation
TRANSP:OPAQUE
UID:e9d696b88bcba370ac0186de00140880 Tecnowebinars.com
X-MICROSOFT-CDO-BUSYSTATUS:BUSY
X-MICROSOFT-CDO-IMPORTANCE:1
X-MICROSOFT-DISALLOW-COUNTER:FALSE
X-MS-OLK-ALLOWEXTERNCHECK:TRUE
X-MS-OLK-AUTOFILLLOCATION:FALSE
X-MS-OLK-CONFTYPE:0
BEGIN:VALARM
TRIGGER:-PT1440M
ACTION:DISPLAY
DESCRIPTION:Reminder
END:VALARM
END:VEVENT
END:VCALENDAR
