BEGIN:VCALENDAR
PRODID:-//Microsoft Corporation//Outlook 12.0 MIMEDIR//EN
VERSION:2.0
METHOD:PUBLISH
X-MS-OLK-FORCEINSPECTOROPEN:TRUE
BEGIN:VEVENT
CLASS:PUBLIC
CREATED:20260419T213653Z
DESCRIPTION:VER VIDEO \n \nNo siempre los proyectos ERPs son un camino de flores y rosas. En alguna ocasión pueden terminar en los Tribunales ya sea por malentendidos, incumplimiento en tiempos, infeficacacia del implantador, mala comunicación de las necesidades reales...\n \nUno de los principales peritos de España especializado en Demandas Judiciales de ERP estará a tu disposición para preguntas, cuestiones y dudas. \n \nAdemás nos explicará cuales son los asuntos a tener en cuenta por todas las partes, cuales son las principales causas de este tipo de demandas y qué consejos ofrece él para evitarlas.  \nVER VIDEO \n
DTSTART:20200604T163000
DTEND:20200604T173000
DTSTAMP:20260419T213653Z
LOCATION:Online
PRIORITY:5
SEQUENCE:0
SUMMARY;LANGUAGE=es-es:Tecnowebinars.com - :: Cuando un proyecto ERP acaba en Demanda Judicial. Todo lo que debes saber.
TRANSP:OPAQUE
UID:131cb7e82c377f34fe340b512f9b6669 Tecnowebinars.com
X-MICROSOFT-CDO-BUSYSTATUS:BUSY
X-MICROSOFT-CDO-IMPORTANCE:1
X-MICROSOFT-DISALLOW-COUNTER:FALSE
X-MS-OLK-ALLOWEXTERNCHECK:TRUE
X-MS-OLK-AUTOFILLLOCATION:FALSE
X-MS-OLK-CONFTYPE:0
BEGIN:VALARM
TRIGGER:-PT1440M
ACTION:DISPLAY
DESCRIPTION:Reminder
END:VALARM
END:VEVENT
END:VCALENDAR
