BEGIN:VCALENDAR
PRODID:-//Microsoft Corporation//Outlook 12.0 MIMEDIR//EN
VERSION:2.0
METHOD:PUBLISH
X-MS-OLK-FORCEINSPECTOROPEN:TRUE
BEGIN:VEVENT
CLASS:PUBLIC
CREATED:20260420T003925Z
DESCRIPTION:Todo tiene su final y el día 7 podremos punto final a los seminarios webinar en Ahoraturismo.\nDe la mano de Chema Herrero CEO de Bedsrevenue y creador de la idea y de muchos de los participantes en los mismos un foro abierto para hablar de la formación , de la actualidad del sector de los retos y de como ha cambiado el sector y las previsiones durante toda la etapa de vida de esta iniciativa.\n
DTSTART:20200407T180000
DTEND:20200407T190000
DTSTAMP:20260420T003925Z
LOCATION:Online
PRIORITY:5
SEQUENCE:0
SUMMARY;LANGUAGE=es-es:Tecnowebinars.com - :: Despedida de una iniciativa que nació para ayudar #ahoraturismo
TRANSP:OPAQUE
UID:f3430c8544eecf349bef913e97b593cf Tecnowebinars.com
X-MICROSOFT-CDO-BUSYSTATUS:BUSY
X-MICROSOFT-CDO-IMPORTANCE:1
X-MICROSOFT-DISALLOW-COUNTER:FALSE
X-MS-OLK-ALLOWEXTERNCHECK:TRUE
X-MS-OLK-AUTOFILLLOCATION:FALSE
X-MS-OLK-CONFTYPE:0
BEGIN:VALARM
TRIGGER:-PT1440M
ACTION:DISPLAY
DESCRIPTION:Reminder
END:VALARM
END:VEVENT
END:VCALENDAR
