BEGIN:VCALENDAR
PRODID:-//Microsoft Corporation//Outlook 12.0 MIMEDIR//EN
VERSION:2.0
METHOD:PUBLISH
X-MS-OLK-FORCEINSPECTOROPEN:TRUE
BEGIN:VEVENT
CLASS:PUBLIC
CREATED:20260419T231734Z
DESCRIPTION:Uno de los aspectos más importantes en la situación actual del sector hotelero viene representado por el cambio brusco en las circunstancias del mercado y que convierte en importantísima la figura jurídica del “Rebus sic stantibus” de muy compleja interpretación y aplicación.\nDe la mano de profesionales en activo de primer nivel, y moderado por Javier Pet, uno de Los consultores de mayor prestigio del país, daremos luz a un tema complejo.\n
DTSTART:20200506T183000
DTEND:20200506T200000
DTSTAMP:20260419T231734Z
LOCATION:Online
PRIORITY:5
SEQUENCE:0
SUMMARY;LANGUAGE=es-es:Tecnowebinars.com - :: REBUS SIC STANTIBUS: ¿Salvavidas para renegociar los contratos?
TRANSP:OPAQUE
UID:549e207aa3b69264d58b94dca796ed9f Tecnowebinars.com
X-MICROSOFT-CDO-BUSYSTATUS:BUSY
X-MICROSOFT-CDO-IMPORTANCE:1
X-MICROSOFT-DISALLOW-COUNTER:FALSE
X-MS-OLK-ALLOWEXTERNCHECK:TRUE
X-MS-OLK-AUTOFILLLOCATION:FALSE
X-MS-OLK-CONFTYPE:0
BEGIN:VALARM
TRIGGER:-PT1440M
ACTION:DISPLAY
DESCRIPTION:Reminder
END:VALARM
END:VEVENT
END:VCALENDAR
