BEGIN:VCALENDAR
PRODID:-//Microsoft Corporation//Outlook 12.0 MIMEDIR//EN
VERSION:2.0
METHOD:PUBLISH
X-MS-OLK-FORCEINSPECTOROPEN:TRUE
BEGIN:VEVENT
CLASS:PUBLIC
CREATED:20260419T231734Z
DESCRIPTION:El Instituto Tecnológico y de Estudios Superiores de Monterrey (ITESM), una de las instituciones de educación superior más destacadas en Latinoamérica, está haciendo uso de las tecnologías en la nube de Amazon Web Services (AWS) para acelerar la innovación de los servicios que provee a los estudiantes, dotar de aplicaciones flexibles y robustas a sus colaboradores y garantizar una comunidad académica y estudiantil que logra con éxito sus objetivos profesionales.\n \nConoce los detalles de este caso en nuestro próximo seminario en línea.\n
DTSTART:20200513T173000
DTEND:20200513T183000
DTSTAMP:20260419T231734Z
LOCATION:Online
PRIORITY:5
SEQUENCE:0
SUMMARY;LANGUAGE=es-es:Tecnowebinars.com - :: Descubre las innovaciones y beneficios que obtiene el Tecnológico de Monterrey con la nube de AWS
TRANSP:OPAQUE
UID:7ef26a23e70bf245cb40cf7dfbb0ae0e Tecnowebinars.com
X-MICROSOFT-CDO-BUSYSTATUS:BUSY
X-MICROSOFT-CDO-IMPORTANCE:1
X-MICROSOFT-DISALLOW-COUNTER:FALSE
X-MS-OLK-ALLOWEXTERNCHECK:TRUE
X-MS-OLK-AUTOFILLLOCATION:FALSE
X-MS-OLK-CONFTYPE:0
BEGIN:VALARM
TRIGGER:-PT1440M
ACTION:DISPLAY
DESCRIPTION:Reminder
END:VALARM
END:VEVENT
END:VCALENDAR
