BEGIN:VCALENDAR
PRODID:-//Microsoft Corporation//Outlook 12.0 MIMEDIR//EN
VERSION:2.0
METHOD:PUBLISH
X-MS-OLK-FORCEINSPECTOROPEN:TRUE
BEGIN:VEVENT
CLASS:PUBLIC
CREATED:20260419T231734Z
DESCRIPTION:La situación actual puede suponer una oportunidad para unir fuerzas con los intermediarios y poder salir reforzados .\nCharlaremos con 3 profesionales contrastados en el sector que analizaran la situación actual de la intermediación y como aportan valor al producto.\n
DTSTART:20200505T180000
DTEND:20200505T200000
DTSTAMP:20260419T231734Z
LOCATION:Online
PRIORITY:5
SEQUENCE:0
SUMMARY;LANGUAGE=es-es:Tecnowebinars.com - :: La comercialización del futuro
TRANSP:OPAQUE
UID:4764782e75e2ee111a37b7cb7ac55fd6 Tecnowebinars.com
X-MICROSOFT-CDO-BUSYSTATUS:BUSY
X-MICROSOFT-CDO-IMPORTANCE:1
X-MICROSOFT-DISALLOW-COUNTER:FALSE
X-MS-OLK-ALLOWEXTERNCHECK:TRUE
X-MS-OLK-AUTOFILLLOCATION:FALSE
X-MS-OLK-CONFTYPE:0
BEGIN:VALARM
TRIGGER:-PT1440M
ACTION:DISPLAY
DESCRIPTION:Reminder
END:VALARM
END:VEVENT
END:VCALENDAR
