BEGIN:VCALENDAR
PRODID:-//Microsoft Corporation//Outlook 12.0 MIMEDIR//EN
VERSION:2.0
METHOD:PUBLISH
X-MS-OLK-FORCEINSPECTOROPEN:TRUE
BEGIN:VEVENT
CLASS:PUBLIC
CREATED:20260419T213647Z
DESCRIPTION:VER VIDEO\nConociendo los OKRs (Objectives and Key Results) podras ayudar en  todos los niveles del ciclo de vida en tu organización (o clientes), desde el desarrollo de buenos objetivos y resultados clave hasta el despliegue de objetivos estratégicos, tácticos y operativos, monitoreo y cierre con buen gobierno y disciplina.\nUsando este conocimiento adquirido, harán que la cultura OKR sea accesible para todos los empleados de la organización (o clientes).\nEs un enfoque que es simple de entender y difícil de aplicar para crear alineación y compromiso en torno a objetivos medibles. El objetivo es asegurar que todos se muevan en la misma dirección, con prioridades claras, a un ritmo constante. Los OKR han sido una condición para las inversiones en Startups, ya que proporcionan una previsibilidad proporcional del posicionamiento estratégico y la priorización.\n Público objetivo:\nGerentes interesados en medir el desempeño de su organización y equipos. Profesionales de recursos humanos para aprender nuevas técnicas para evaluar el desempeño. Profesionales de diferentes áreas, finanzas, éxito de clientes, producción, logística, TI. Gerentes de proyecto, propietarios de productos, que desean maximizar el valor de sus entregas. Gerentes que ya usan un sistema de gestión de objetivos y rendimiento, pero que necesitan mejorarlo.\n VER VIDEO\n \n \n \n
DTSTART:20200603T151500
DTEND:20200603T161500
DTSTAMP:20260419T213647Z
LOCATION:Online
PRIORITY:5
SEQUENCE:0
SUMMARY;LANGUAGE=es-es:Tecnowebinars.com - :: ¿Qué son los OKRs? Mide tus objetivos y los de tu organización
TRANSP:OPAQUE
UID:eafa50aca7b4a69cb48b9e903b6445e6 Tecnowebinars.com
X-MICROSOFT-CDO-BUSYSTATUS:BUSY
X-MICROSOFT-CDO-IMPORTANCE:1
X-MICROSOFT-DISALLOW-COUNTER:FALSE
X-MS-OLK-ALLOWEXTERNCHECK:TRUE
X-MS-OLK-AUTOFILLLOCATION:FALSE
X-MS-OLK-CONFTYPE:0
BEGIN:VALARM
TRIGGER:-PT1440M
ACTION:DISPLAY
DESCRIPTION:Reminder
END:VALARM
END:VEVENT
END:VCALENDAR
