BEGIN:VCALENDAR
PRODID:-//Microsoft Corporation//Outlook 12.0 MIMEDIR//EN
VERSION:2.0
METHOD:PUBLISH
X-MS-OLK-FORCEINSPECTOROPEN:TRUE
BEGIN:VEVENT
CLASS:PUBLIC
CREATED:20260419T213647Z
DESCRIPTION:Link subjective driver feeling and objective measurements\nWhen it comes to on-center vehicle performance, defining targets and making design decisions is challenging. After all, how do you relate driver feeling to objective measurements as only limited objective metrics are available? And how do you consider the impact of design changes?\nDuring this webinar, we’ll explain a novel process that closes the gap between subjective driver feeling and objective measurements, and gain insights on global vehicle level and individual axle level. Model-supported testing accurately describes the effect of tire, body, and chassis modifications on the overall vehicle performance due to the decomposition of global to local information. Hence, it allows engineers to frontload the development process and set on-center vehicle performance targets at the early design stages.\nYou will learn how to:\n- Define objective metrics for on-center vehicle performance and set targets at early design change\n- Quantify changes due to chassis, body or tire modifications by decomposition from global to local information\n- Link objective data to subjective evaluation\n
DTSTART:20200617T120000
DTEND:20200617T130000
DTSTAMP:20260419T213647Z
LOCATION:Online
PRIORITY:5
SEQUENCE:0
SUMMARY;LANGUAGE=es-es:Tecnowebinars.com - :: Demystify on-center vehicle performance
TRANSP:OPAQUE
UID:eaba4c2fde4a10ea3465fb847551cb15 Tecnowebinars.com
X-MICROSOFT-CDO-BUSYSTATUS:BUSY
X-MICROSOFT-CDO-IMPORTANCE:1
X-MICROSOFT-DISALLOW-COUNTER:FALSE
X-MS-OLK-ALLOWEXTERNCHECK:TRUE
X-MS-OLK-AUTOFILLLOCATION:FALSE
X-MS-OLK-CONFTYPE:0
BEGIN:VALARM
TRIGGER:-PT1440M
ACTION:DISPLAY
DESCRIPTION:Reminder
END:VALARM
END:VEVENT
END:VCALENDAR
