BEGIN:VCALENDAR
PRODID:-//Microsoft Corporation//Outlook 12.0 MIMEDIR//EN
VERSION:2.0
METHOD:PUBLISH
X-MS-OLK-FORCEINSPECTOROPEN:TRUE
BEGIN:VEVENT
CLASS:PUBLIC
CREATED:20260419T231610Z
DESCRIPTION:The third in a four-part series, this webinar will demonstrate how simulation engineering enables you to build a high-fidelity digital twin.\n \nHandle complex geometry with a pipelined workflow from CAD to solution, and benefit from a vast array of multiphysics solutions that can work seamlessly together in a single integrated environment.\n \nAll of which allows you to simulate reality efficiently no matter how complex the physics and gain unrivaled insight into designs.\n \nYou will learn how to:\n \n- Maintain geometrical complexity through the pipelined workflow avoiding loss of fidelity whilst saving time and effort.\n- Improve insight into product performance by increasing physical realism whilst keeping computational costs to a minimum.\n- Gain confidence in your designs and innovate through insights that only come through a high-fidelity digital twin.\n
DTSTART:20200527T200000
DTEND:20200527T210000
DTSTAMP:20260419T231610Z
LOCATION:Online
PRIORITY:5
SEQUENCE:0
SUMMARY;LANGUAGE=es-es:Tecnowebinars.com - :: The high-fidelity digital twin: Simulate reality no matter how complex the physics or geometry
TRANSP:OPAQUE
UID:23605075fadc85b6a8bbce35d78a585e Tecnowebinars.com
X-MICROSOFT-CDO-BUSYSTATUS:BUSY
X-MICROSOFT-CDO-IMPORTANCE:1
X-MICROSOFT-DISALLOW-COUNTER:FALSE
X-MS-OLK-ALLOWEXTERNCHECK:TRUE
X-MS-OLK-AUTOFILLLOCATION:FALSE
X-MS-OLK-CONFTYPE:0
BEGIN:VALARM
TRIGGER:-PT1440M
ACTION:DISPLAY
DESCRIPTION:Reminder
END:VALARM
END:VEVENT
END:VCALENDAR
