BEGIN:VCALENDAR
PRODID:-//Microsoft Corporation//Outlook 12.0 MIMEDIR//EN
VERSION:2.0
METHOD:PUBLISH
X-MS-OLK-FORCEINSPECTOROPEN:TRUE
BEGIN:VEVENT
CLASS:PUBLIC
CREATED:20260419T230808Z
DESCRIPTION:You will learn how this helps machine builders combat reduced margins by removing the barriers to innovation.\nToday‘s machinery design is about more than just a mechanical design. The problems that need to be solved revolve around things such as being able to produce machines that have faster cycle times with less errors in a compressed delivery cycle.\nUpfront digital validation will allow you to deliver machines to customers without issues. In addition with increased electrical, automation and software content in today’s machines you need to be able to solve all issues in concurrently across multiple disciplines.\nLearn how the next generation design for industrial machinery enables:\n- world’s leading mechatronic design platform\n- true generative design\n- additive manufacturing\n
DTSTART:20200513T160000
DTEND:20200513T170000
DTSTAMP:20260419T230808Z
LOCATION:Online
PRIORITY:5
SEQUENCE:0
SUMMARY;LANGUAGE=es-es:Tecnowebinars.com - :: Next Generation Design for the Industrial Machinery Industry
TRANSP:OPAQUE
UID:5695b8f546e1e1ac6d83d5181e43a1c6 Tecnowebinars.com
X-MICROSOFT-CDO-BUSYSTATUS:BUSY
X-MICROSOFT-CDO-IMPORTANCE:1
X-MICROSOFT-DISALLOW-COUNTER:FALSE
X-MS-OLK-ALLOWEXTERNCHECK:TRUE
X-MS-OLK-AUTOFILLLOCATION:FALSE
X-MS-OLK-CONFTYPE:0
BEGIN:VALARM
TRIGGER:-PT1440M
ACTION:DISPLAY
DESCRIPTION:Reminder
END:VALARM
END:VEVENT
END:VCALENDAR
