BEGIN:VCALENDAR
PRODID:-//Microsoft Corporation//Outlook 12.0 MIMEDIR//EN
VERSION:2.0
METHOD:PUBLISH
X-MS-OLK-FORCEINSPECTOROPEN:TRUE
BEGIN:VEVENT
CLASS:PUBLIC
CREATED:20260419T231610Z
DESCRIPTION: ¿Listo para volver a arrancar? \nEn este webinar presentamos qué estrategia seguir para el reinicio operativo, abordando temas clave de fabricación a tener en cuenta para reanudar las operaciones después de una parada completa o parcial en el entorno del COVID-19.\n \nEstas semanas muchas fábricas de todo el mundo tendrán que hacer frente al arranque de sus plantas. Los proveedores se tienen que empezar a preparar para asegurarse que cumplen con los requisitos de sus clientes a tiempo. Este webinar describe un plan den tres pasos que los proveedores deben seguir para prepararse para el reinicio de sus operaciones.\n \nEl plan incluye:\n \nGestión el virus COVID-19 en las instalaciones;\n \nReinicio las operaciones de fabricación;\n \nRecuperación de la estabilidad operacional.\n \nÚnete a nuestro webinar de 45 minutos, parte de nuestra serie "insight webinar series", el 14 de mayo a las 15:00h CET y te mostraremos cómo reiniciar tus operaciones. También proporcionaremos una lista de verificación de 13 puntos para que tu organización la aplique en la evaluación de riesgos potenciales al reiniciar tus operaciones.\n
DTSTART:20200514T150000
DTEND:20200514T160000
DTSTAMP:20260419T231610Z
LOCATION:Online
PRIORITY:5
SEQUENCE:0
SUMMARY;LANGUAGE=es-es:Tecnowebinars.com - :: ¿Estás listo para volver a arrancar tu fábrica? Lista de verificación de 13 puntos
TRANSP:OPAQUE
UID:e3105f4ab94c9cda5f2127cb69bc6d31 Tecnowebinars.com
X-MICROSOFT-CDO-BUSYSTATUS:BUSY
X-MICROSOFT-CDO-IMPORTANCE:1
X-MICROSOFT-DISALLOW-COUNTER:FALSE
X-MS-OLK-ALLOWEXTERNCHECK:TRUE
X-MS-OLK-AUTOFILLLOCATION:FALSE
X-MS-OLK-CONFTYPE:0
BEGIN:VALARM
TRIGGER:-PT1440M
ACTION:DISPLAY
DESCRIPTION:Reminder
END:VALARM
END:VEVENT
END:VCALENDAR
