BEGIN:VCALENDAR
PRODID:-//Microsoft Corporation//Outlook 12.0 MIMEDIR//EN
VERSION:2.0
METHOD:PUBLISH
X-MS-OLK-FORCEINSPECTOROPEN:TRUE
BEGIN:VEVENT
CLASS:PUBLIC
CREATED:20260419T231644Z
DESCRIPTION:Webinar especializado en el control de producción a partir de la conexión con las máquinas recopilando en tiempo real todos los datos de ejecución (inicio ciclo, paro, spindle, etc…) monitorizados por NCSIMUL DNC.\nEsta solución de software que ofrece Hexagon, está especialmente focalizada en sectores como la automoción, la aeronáutica, y la manufactura en general.\nLos asistentes tendrán la oportunidad de ver las funcionalidades más relevantes que ofrece NCSIMUL DNC. La versatilidad, la facilidad de uso y su gran potencia hacen de este software de Monitorización su mejor aliado en las tareas diarias del sector industrial. \n \nLa presentación se ha dividido en 4 aspectos básicos de la solución NCSISMUL DNC:\n \n• Conexión, protocolos y captura de datos.\n• Monitorización en tiempo real.\n• Enlace con sistemas ERP/MES.\n• Informes, presentación de datos e indicadores.\n \n¿Quiénes deben asistir?\n \nDirigido a todos aquellos que analizan / coordinan / ejecutan planes de producción. \n \n¿Por qué deben asistir?\n \nLa información es poder. Por esa razón es muy importante conocer todos los datos disponibles que de forma automática nos envían las máquinas sin necesidad de intervención de ningún operario.\n \nAl mismo tiempo, podrá conocer una herramienta colaborativa para realizar sus informes a partir de análisis, ahorrar papel en su organización (información siempre actualizada) y compartir información con los departamentos que intervengan en la producción.\n
DTSTART:20200505T110000
DTEND:20200505T120000
DTSTAMP:20260419T231644Z
LOCATION:Online
PRIORITY:5
SEQUENCE:0
SUMMARY;LANGUAGE=es-es:Tecnowebinars.com - :: Comunicación y Monitorización de máquinas CNC en tiempo real
TRANSP:OPAQUE
UID:6a8bdea9b9ae1c7a4b731ea11d9dfef6 Tecnowebinars.com
X-MICROSOFT-CDO-BUSYSTATUS:BUSY
X-MICROSOFT-CDO-IMPORTANCE:1
X-MICROSOFT-DISALLOW-COUNTER:FALSE
X-MS-OLK-ALLOWEXTERNCHECK:TRUE
X-MS-OLK-AUTOFILLLOCATION:FALSE
X-MS-OLK-CONFTYPE:0
BEGIN:VALARM
TRIGGER:-PT1440M
ACTION:DISPLAY
DESCRIPTION:Reminder
END:VALARM
END:VEVENT
END:VCALENDAR
