BEGIN:VCALENDAR
PRODID:-//Microsoft Corporation//Outlook 12.0 MIMEDIR//EN
VERSION:2.0
METHOD:PUBLISH
X-MS-OLK-FORCEINSPECTOROPEN:TRUE
BEGIN:VEVENT
CLASS:PUBLIC
CREATED:20260419T231610Z
DESCRIPTION:En estas últimas semanas y ante la situación de confinamiento, no se pueden realizar formaciones presenciales que bonificar, por este motivo uno de los cambios más importantes en la normativa es la bonificación de acciones presenciales, a través de herramientas online como Teams con la calificación de presencial.\n \nEs importante que empresas y organizaciones tengan en cuenta esta medida para no dejar perder el crédito de 2020, ya que estamos ante un escenario donde no sabemos cuándo se podrá volver a realizar la formación presencial.\n \nFrancisco López, técnico de Recursos Humanos y Formación en Grupo Tecon, será el encargado de impartir esta sesión sobre las medidas extraordinarias para hacer frente al impacto del COVID-19 en materia de formación bonificada.\n
DTSTART:20200505T100000
DTEND:20200505T110000
DTSTAMP:20260419T231610Z
LOCATION:Online
PRIORITY:5
SEQUENCE:0
SUMMARY;LANGUAGE=es-es:Tecnowebinars.com - :: Formación bonificada para empleados en tiempos de Covid-19: Aula Virtual como espacio presencial
TRANSP:OPAQUE
UID:6e29b806f0caf1483dd0f59ac1b13756 Tecnowebinars.com
X-MICROSOFT-CDO-BUSYSTATUS:BUSY
X-MICROSOFT-CDO-IMPORTANCE:1
X-MICROSOFT-DISALLOW-COUNTER:FALSE
X-MS-OLK-ALLOWEXTERNCHECK:TRUE
X-MS-OLK-AUTOFILLLOCATION:FALSE
X-MS-OLK-CONFTYPE:0
BEGIN:VALARM
TRIGGER:-PT1440M
ACTION:DISPLAY
DESCRIPTION:Reminder
END:VALARM
END:VEVENT
END:VCALENDAR
