BEGIN:VCALENDAR
PRODID:-//Microsoft Corporation//Outlook 12.0 MIMEDIR//EN
VERSION:2.0
METHOD:PUBLISH
X-MS-OLK-FORCEINSPECTOROPEN:TRUE
BEGIN:VEVENT
CLASS:PUBLIC
CREATED:20260419T231610Z
DESCRIPTION:With the global pandemic changing lives, our healthcare system is pushed to adapt and evolve – faster than ever.\nThrough the combination of telecommunication and healthcare, the demand and necessity of telehealth is rapidly growing and changing the virtual care dynamic among healthcare providers and patients.\n
DTSTART:20200505T200000
DTEND:20200505T210000
DTSTAMP:20260419T231610Z
LOCATION:Online
PRIORITY:5
SEQUENCE:0
SUMMARY;LANGUAGE=es-es:Tecnowebinars.com - :: New Era of Telehealth is Transforming Care
TRANSP:OPAQUE
UID:c3db53292145dd9987a685e9b03215e9 Tecnowebinars.com
X-MICROSOFT-CDO-BUSYSTATUS:BUSY
X-MICROSOFT-CDO-IMPORTANCE:1
X-MICROSOFT-DISALLOW-COUNTER:FALSE
X-MS-OLK-ALLOWEXTERNCHECK:TRUE
X-MS-OLK-AUTOFILLLOCATION:FALSE
X-MS-OLK-CONFTYPE:0
BEGIN:VALARM
TRIGGER:-PT1440M
ACTION:DISPLAY
DESCRIPTION:Reminder
END:VALARM
END:VEVENT
END:VCALENDAR
