BEGIN:VCALENDAR
PRODID:-//Microsoft Corporation//Outlook 12.0 MIMEDIR//EN
VERSION:2.0
METHOD:PUBLISH
X-MS-OLK-FORCEINSPECTOROPEN:TRUE
BEGIN:VEVENT
CLASS:PUBLIC
CREATED:20260419T231538Z
DESCRIPTION:The consumer packaged goods (CPG) industry is in flux. Manufacturers face a wave of ever-shifting demand and the need for ever-shorter lead times, plus an unprecedented array of new disruptive technologies to evaluate and implement.\nSuccessfully navigating these complex challenges can mean pulling ahead of the industry; failure can mean losing out to nimble competitors. But how can you chart a path to not only survive, but succeed, in an environment of change?\nIndustryWeek partnered with Oracle to survey leading CPG manufacturers to find out.\n \nIn this webinar, we will reveal the research findings and show what strategies, tactics, and technologies top manufacturers are using today to drive their competitive edge.\nWe will also share practical steps you can take to pull ahead of your competitors.\n \nJoin us to find out more about burning topics such as:\n \n- What emerging technologies matter most to leading CPG manufacturers.\n- How mixed-mode manufacturing can increase flexibility and efficiency.\n- The top ten best practices shared by top CPG manufacturers.\n- How the cloud has become an essential tool for digital transformation.\n- Next steps to drive your company into the future.\n
DTSTART:20200513T200000
DTEND:20200513T210000
DTSTAMP:20260419T231538Z
LOCATION:Online
PRIORITY:5
SEQUENCE:0
SUMMARY;LANGUAGE=es-es:Tecnowebinars.com - :: Survey Results - Top CPG Manufacturers Reveal Strategies for Success
TRANSP:OPAQUE
UID:3a98fbf25f0d7879ba9c53a3de0d7e45 Tecnowebinars.com
X-MICROSOFT-CDO-BUSYSTATUS:BUSY
X-MICROSOFT-CDO-IMPORTANCE:1
X-MICROSOFT-DISALLOW-COUNTER:FALSE
X-MS-OLK-ALLOWEXTERNCHECK:TRUE
X-MS-OLK-AUTOFILLLOCATION:FALSE
X-MS-OLK-CONFTYPE:0
BEGIN:VALARM
TRIGGER:-PT1440M
ACTION:DISPLAY
DESCRIPTION:Reminder
END:VALARM
END:VEVENT
END:VCALENDAR
