BEGIN:VCALENDAR
PRODID:-//Microsoft Corporation//Outlook 12.0 MIMEDIR//EN
VERSION:2.0
METHOD:PUBLISH
X-MS-OLK-FORCEINSPECTOROPEN:TRUE
BEGIN:VEVENT
CLASS:PUBLIC
CREATED:20260419T230851Z
DESCRIPTION:VER VIDEO \n \nLa situación actual hace imperativo contar con herramientas, potentes y flexibles, de rápida implementación que se integren con vuestro sistema IT y que permitan así el trabajo a distancia incluso de manera más efectiva que antes.\n \nPresentamos en este webinar una solución que te permitirá crear y gestionar flujos de trabajo electrónicos, flexibles en tiempo real, validar todo tipo de documentos de manera interna pero también externa a la organización con una firma electrónica, tales como órdenes de pedido, presupuestos, albaranes, contratos, para luego almacenarlos para su rápida recuperación.\n \nGracias a la máxima integración con vuestro ERP o CRM, los flujos son alimentados directamente del ERP o CRM para así minimizar los procesos manuales.\n \nTodo, con el objetivo de trabajar de la misma manera que antes, o mejor aún, pero desde puestos de trabajo distantes.\n \nVER VIDEO \n
DTSTART:20200513T140000
DTEND:20200513T150000
DTSTAMP:20260419T230851Z
LOCATION:Online
PRIORITY:5
SEQUENCE:0
SUMMARY;LANGUAGE=es-es:Tecnowebinars.com - :: Teletrabajo: Flujos de documentos con validación interna, externa y su almacenamiento
TRANSP:OPAQUE
UID:2d474c7f2926290c219a98b81ec7f2d9 Tecnowebinars.com
X-MICROSOFT-CDO-BUSYSTATUS:BUSY
X-MICROSOFT-CDO-IMPORTANCE:1
X-MICROSOFT-DISALLOW-COUNTER:FALSE
X-MS-OLK-ALLOWEXTERNCHECK:TRUE
X-MS-OLK-AUTOFILLLOCATION:FALSE
X-MS-OLK-CONFTYPE:0
BEGIN:VALARM
TRIGGER:-PT1440M
ACTION:DISPLAY
DESCRIPTION:Reminder
END:VALARM
END:VEVENT
END:VCALENDAR
