BEGIN:VCALENDAR
PRODID:-//Microsoft Corporation//Outlook 12.0 MIMEDIR//EN
VERSION:2.0
METHOD:PUBLISH
X-MS-OLK-FORCEINSPECTOROPEN:TRUE
BEGIN:VEVENT
CLASS:PUBLIC
CREATED:20260419T201119Z
DESCRIPTION:This is the world's largest virtual event for construction and will welcome 100+ speakers and 1000s of digital construction professionals from across the globe. \n \nThere is no cost to join and all sessions are CPD accredited. Online presentations and panel discussions will take place around the clock, enabling attendance from all around the world!\n \n
DTSTART:20200709T180000
DTEND:20200709T190000
DTSTAMP:20260419T201119Z
LOCATION:Online
PRIORITY:5
SEQUENCE:0
SUMMARY;LANGUAGE=es-es:Tecnowebinars.com - :: BIM y Construcción Digital: Maximizar los beneficios de la BIM y mejorar la industria de la construcción a través de los procesos de adquisición
TRANSP:OPAQUE
UID:dfa785a56668382931bbe53d9bf71895 Tecnowebinars.com
X-MICROSOFT-CDO-BUSYSTATUS:BUSY
X-MICROSOFT-CDO-IMPORTANCE:1
X-MICROSOFT-DISALLOW-COUNTER:FALSE
X-MS-OLK-ALLOWEXTERNCHECK:TRUE
X-MS-OLK-AUTOFILLLOCATION:FALSE
X-MS-OLK-CONFTYPE:0
BEGIN:VALARM
TRIGGER:-PT1440M
ACTION:DISPLAY
DESCRIPTION:Reminder
END:VALARM
END:VEVENT
END:VCALENDAR
