BEGIN:VCALENDAR
PRODID:-//Microsoft Corporation//Outlook 12.0 MIMEDIR//EN
VERSION:2.0
METHOD:PUBLISH
X-MS-OLK-FORCEINSPECTOROPEN:TRUE
BEGIN:VEVENT
CLASS:PUBLIC
CREATED:20260419T230755Z
DESCRIPTION:Soluciones GIS con Global Mapper\nAccede a la tecnología SIG sin las barreras de costo y usabilidad de las herramientas tradicionales.\n \nCon cerca de treinta años de desarrollo, Global Mapper se ha convertido en un fabricante fundamental en la industria del software SIG, contando con una colección inigualable de herramientas de creación, edición, renderización y análisis de datos a un precio asequible.\n \nAgenda\n \n• Introducción a Global Mapper y el módulo LiDAR. Conoceremos las funcionalidades que nos ofrece el entorno, y los principios del trabajo GIS.\n \n• Ejemplo de análisis de terreno con Global Mapper y el módulo LiDAR. Realizaremos un ejemplo de análisis de una cuenca fluvial comparando las capas de terreno para calcular volúmenes.\n \n• También aplicaremos técnicas de visualización 3D para crear modelos.\n
DTSTART:20200505T124500
DTEND:20200505T140000
DTSTAMP:20260419T230755Z
LOCATION:Online
PRIORITY:5
SEQUENCE:0
SUMMARY;LANGUAGE=es-es:Tecnowebinars.com - :: Soluciones GIS con Global Mapper
TRANSP:OPAQUE
UID:f88541d6fb0b3906eae66dbcc2aeff59 Tecnowebinars.com
X-MICROSOFT-CDO-BUSYSTATUS:BUSY
X-MICROSOFT-CDO-IMPORTANCE:1
X-MICROSOFT-DISALLOW-COUNTER:FALSE
X-MS-OLK-ALLOWEXTERNCHECK:TRUE
X-MS-OLK-AUTOFILLLOCATION:FALSE
X-MS-OLK-CONFTYPE:0
BEGIN:VALARM
TRIGGER:-PT1440M
ACTION:DISPLAY
DESCRIPTION:Reminder
END:VALARM
END:VEVENT
END:VCALENDAR
